BEGIN:VCALENDAR
VERSION:2.0
PRODID:-//Tampa Bay HMPC - ECPv6.15.20//NONSGML v1.0//EN
CALSCALE:GREGORIAN
METHOD:PUBLISH
X-ORIGINAL-URL:https://tampabayhmpc.org
X-WR-CALDESC:Events for Tampa Bay HMPC
REFRESH-INTERVAL;VALUE=DURATION:PT1H
X-Robots-Tag:noindex
X-PUBLISHED-TTL:PT1H
BEGIN:VTIMEZONE
TZID:America/New_York
BEGIN:DAYLIGHT
TZOFFSETFROM:-0500
TZOFFSETTO:-0400
TZNAME:EDT
DTSTART:20240310T070000
END:DAYLIGHT
BEGIN:STANDARD
TZOFFSETFROM:-0400
TZOFFSETTO:-0500
TZNAME:EST
DTSTART:20241103T060000
END:STANDARD
BEGIN:DAYLIGHT
TZOFFSETFROM:-0500
TZOFFSETTO:-0400
TZNAME:EDT
DTSTART:20250309T070000
END:DAYLIGHT
BEGIN:STANDARD
TZOFFSETFROM:-0400
TZOFFSETTO:-0500
TZNAME:EST
DTSTART:20251102T060000
END:STANDARD
BEGIN:DAYLIGHT
TZOFFSETFROM:-0500
TZOFFSETTO:-0400
TZNAME:EDT
DTSTART:20260308T070000
END:DAYLIGHT
BEGIN:STANDARD
TZOFFSETFROM:-0400
TZOFFSETTO:-0500
TZNAME:EST
DTSTART:20261101T060000
END:STANDARD
END:VTIMEZONE
BEGIN:VEVENT
DTSTART;TZID=America/New_York:20250415T080000
DTEND;TZID=America/New_York:20250415T163000
DTSTAMP:20260423T191240
CREATED:20250325T132059Z
LAST-MODIFIED:20250325T132059Z
UID:16656-1744704000-1744734600@tampabayhmpc.org
SUMMARY:Hospital Incident Command System (HICS)
DESCRIPTION:REGISTER HERE
URL:https://tampabayhmpc.org/event/hospital-incident-command-system-hics-5/
LOCATION:Manatee Memorial Hospital\, 206 2nd St E\, Bradenton\, FL\, 34208\, United States
CATEGORIES:Citrus,Events Calendar,Hardee,Hernando,Hillsborough,Manatee,Pasco,Pinellas,Polk,Sumter
GEO:27.4972631;-82.5621778
X-APPLE-STRUCTURED-LOCATION;VALUE=URI;X-ADDRESS=Manatee Memorial Hospital 206 2nd St E Bradenton FL 34208 United States;X-APPLE-RADIUS=500;X-TITLE=206 2nd St E:geo:-82.5621778,27.4972631
END:VEVENT
BEGIN:VEVENT
DTSTART;TZID=America/New_York:20250415T080000
DTEND;TZID=America/New_York:20250415T170000
DTSTAMP:20260423T191240
CREATED:20250325T132700Z
LAST-MODIFIED:20250325T132700Z
UID:16664-1744704000-1744736400@tampabayhmpc.org
SUMMARY:Pediatric Preparedness for the Healthcare Professional
DESCRIPTION:Flyer_Pediatric Preparedness Course_Florida 2025
URL:https://tampabayhmpc.org/event/pediatric-preparedness-for-the-healthcare-professional/2025-04-15/
END:VEVENT
END:VCALENDAR