BEGIN:VCALENDAR
VERSION:2.0
PRODID:-//Tampa Bay HMPC - ECPv6.15.20//NONSGML v1.0//EN
CALSCALE:GREGORIAN
METHOD:PUBLISH
X-ORIGINAL-URL:https://tampabayhmpc.org
X-WR-CALDESC:Events for Tampa Bay HMPC
REFRESH-INTERVAL;VALUE=DURATION:PT1H
X-Robots-Tag:noindex
X-PUBLISHED-TTL:PT1H
BEGIN:VTIMEZONE
TZID:America/New_York
BEGIN:DAYLIGHT
TZOFFSETFROM:-0500
TZOFFSETTO:-0400
TZNAME:EDT
DTSTART:20250309T070000
END:DAYLIGHT
BEGIN:STANDARD
TZOFFSETFROM:-0400
TZOFFSETTO:-0500
TZNAME:EST
DTSTART:20251102T060000
END:STANDARD
BEGIN:DAYLIGHT
TZOFFSETFROM:-0500
TZOFFSETTO:-0400
TZNAME:EDT
DTSTART:20260308T070000
END:DAYLIGHT
BEGIN:STANDARD
TZOFFSETFROM:-0400
TZOFFSETTO:-0500
TZNAME:EST
DTSTART:20261101T060000
END:STANDARD
BEGIN:DAYLIGHT
TZOFFSETFROM:-0500
TZOFFSETTO:-0400
TZNAME:EDT
DTSTART:20270314T070000
END:DAYLIGHT
BEGIN:STANDARD
TZOFFSETFROM:-0400
TZOFFSETTO:-0500
TZNAME:EST
DTSTART:20271107T060000
END:STANDARD
END:VTIMEZONE
BEGIN:VEVENT
DTSTART;TZID=America/New_York:20260324T130000
DTEND;TZID=America/New_York:20260324T143000
DTSTAMP:20260422T110825
CREATED:20260223T171240Z
LAST-MODIFIED:20260306T161622Z
UID:17414-1774357200-1774362600@tampabayhmpc.org
SUMMARY:Downtime Operations Webinar Series: The Blueprint for Resilience
DESCRIPTION:Register Here\nTBHMPC is sponsoring a series of Downtime Operations Webinars in collaboration with Jensen Hughes. \nThe webinars are designed to provide valuable insights and practical strategies for managing downtime events effectively within various operational environments. Each session will focus on a different downtime topic and will feature industry experts from Jensen Hughes\, who will share their knowledge and answer participant questions. Attendees will have the opportunity to engage in interactive discussions\, learn about best practices\, and gain resources that can help minimize disruptions and improve overall operational resilience. \nEach session will be available at two different times. Participants may select either the Tuesday offering at 1:00 pm or the Thursday offering at 10:00 am. \n \n  \n 
URL:https://tampabayhmpc.org/event/downtime-operations-webinar-series-the-blueprint-for-resilience-overview-clinical-continuity/2026-03-24/
END:VEVENT
END:VCALENDAR