BEGIN:VCALENDAR
VERSION:2.0
PRODID:-//Tampa Bay HMPC - ECPv6.15.20//NONSGML v1.0//EN
CALSCALE:GREGORIAN
METHOD:PUBLISH
X-ORIGINAL-URL:https://tampabayhmpc.org
X-WR-CALDESC:Events for Tampa Bay HMPC
REFRESH-INTERVAL;VALUE=DURATION:PT1H
X-Robots-Tag:noindex
X-PUBLISHED-TTL:PT1H
BEGIN:VTIMEZONE
TZID:America/New_York
BEGIN:DAYLIGHT
TZOFFSETFROM:-0500
TZOFFSETTO:-0400
TZNAME:EDT
DTSTART:20250309T070000
END:DAYLIGHT
BEGIN:STANDARD
TZOFFSETFROM:-0400
TZOFFSETTO:-0500
TZNAME:EST
DTSTART:20251102T060000
END:STANDARD
BEGIN:DAYLIGHT
TZOFFSETFROM:-0500
TZOFFSETTO:-0400
TZNAME:EDT
DTSTART:20260308T070000
END:DAYLIGHT
BEGIN:STANDARD
TZOFFSETFROM:-0400
TZOFFSETTO:-0500
TZNAME:EST
DTSTART:20261101T060000
END:STANDARD
BEGIN:DAYLIGHT
TZOFFSETFROM:-0500
TZOFFSETTO:-0400
TZNAME:EDT
DTSTART:20270314T070000
END:DAYLIGHT
BEGIN:STANDARD
TZOFFSETFROM:-0400
TZOFFSETTO:-0500
TZNAME:EST
DTSTART:20271107T060000
END:STANDARD
END:VTIMEZONE
BEGIN:VTIMEZONE
TZID:America/New_York
BEGIN:DAYLIGHT
TZOFFSETFROM:-0500
TZOFFSETTO:-0400
TZNAME:EDT
DTSTART:20250309T070000
END:DAYLIGHT
BEGIN:STANDARD
TZOFFSETFROM:-0400
TZOFFSETTO:-0500
TZNAME:EST
DTSTART:20251102T060000
END:STANDARD
BEGIN:DAYLIGHT
TZOFFSETFROM:-0500
TZOFFSETTO:-0400
TZNAME:EDT
DTSTART:20260308T070000
END:DAYLIGHT
BEGIN:STANDARD
TZOFFSETFROM:-0400
TZOFFSETTO:-0500
TZNAME:EST
DTSTART:20261101T060000
END:STANDARD
BEGIN:DAYLIGHT
TZOFFSETFROM:-0500
TZOFFSETTO:-0400
TZNAME:EDT
DTSTART:20270314T070000
END:DAYLIGHT
BEGIN:STANDARD
TZOFFSETFROM:-0400
TZOFFSETTO:-0500
TZNAME:EST
DTSTART:20271107T060000
END:STANDARD
END:VTIMEZONE
BEGIN:VEVENT
DTSTART;TZID=America/New_York:20260107T150000
DTEND;TZID=America/New_York:20260107T160000
DTSTAMP:20260422T175652
CREATED:20260105T192546Z
LAST-MODIFIED:20260105T192546Z
UID:17298-1767798000-1767801600@tampabayhmpc.org
SUMMARY:BOLDplanning Webinar Series
DESCRIPTION:Join Here\n  \nBOLDplanning Webinar One-Pager Jan 7th
URL:https://tampabayhmpc.org/event/boldplanning-webinar-series/
CATEGORIES:Citrus,Events Calendar,Hardee,Hernando,Hillsborough,Manatee,Pasco,Pinellas,Polk,Sumter
END:VEVENT
BEGIN:VEVENT
DTSTART;TZID=America/New_York:20260112T093000
DTEND;TZID=America/New_York:20260112T110000
DTSTAMP:20260422T175652
CREATED:20250904T183458Z
LAST-MODIFIED:20260413T134549Z
UID:17006-1768210200-1768215600@tampabayhmpc.org
SUMMARY:Pasco County HMPC Meeting
DESCRIPTION:
URL:https://tampabayhmpc.org/event/polk-county-hmpc-meeting/2026-01-12/
CATEGORIES:Events Calendar,Pasco
END:VEVENT
BEGIN:VEVENT
DTSTART;TZID=America/New_York:20260114T130000
DTEND;TZID=America/New_York:20260114T143000
DTSTAMP:20260422T175652
CREATED:20241205T162136Z
LAST-MODIFIED:20260413T134715Z
UID:16961-1768395600-1768401000@tampabayhmpc.org
SUMMARY:Manatee CHAMP Meeting
DESCRIPTION:
URL:https://tampabayhmpc.org/event/manatee-champ-meeting-15/2026-01-14/
CATEGORIES:Events Calendar,Manatee
END:VEVENT
BEGIN:VEVENT
DTSTART;TZID=America/New_York:20260120T100000
DTEND;TZID=America/New_York:20260120T113000
DTSTAMP:20260422T175652
CREATED:20151016T115131Z
LAST-MODIFIED:20260413T134849Z
UID:16421-1768903200-1768908600@tampabayhmpc.org
SUMMARY:Hillsborough County Health Care Coalition Meeting
DESCRIPTION:
URL:https://tampabayhmpc.org/event/hillsborough-county-healthcare-coalition-meeting-2025-01-16/2026-01-20/
LOCATION:Hillsborough County EOC\, 9450 E. Columbus Drive\, Tampa\, FL\, 33619\, United States
CATEGORIES:Events Calendar,Hillsborough
GEO:27.9677989;-82.3436723
X-APPLE-STRUCTURED-LOCATION;VALUE=URI;X-ADDRESS=Hillsborough County EOC 9450 E. Columbus Drive Tampa FL 33619 United States;X-APPLE-RADIUS=500;X-TITLE=9450 E. Columbus Drive:geo:-82.3436723,27.9677989
END:VEVENT
BEGIN:VEVENT
DTSTART;TZID=America/New_York:20260121T120000
DTEND;TZID=America/New_York:20260121T133000
DTSTAMP:20260422T175652
CREATED:20251209T201901Z
LAST-MODIFIED:20251209T201901Z
UID:17259-1768996800-1769002200@tampabayhmpc.org
SUMMARY:Crisis Standards of Care and Treatment Decision-Making (HCV1)
DESCRIPTION:Register Here\nFlorida Healthcare Coalition VILT Student Registration Flyer\n  \n  \n  \n  \n 
URL:https://tampabayhmpc.org/event/crisis-standards-of-care-and-treatment-decision-making-hcv1-2/
CATEGORIES:Citrus,Events Calendar,Hardee,Hernando,Hillsborough,Manatee,Pasco,Pinellas,Polk,Sumter
END:VEVENT
BEGIN:VEVENT
DTSTART;TZID=America/New_York:20260121T150000
DTEND;TZID=America/New_York:20260121T160000
DTSTAMP:20260422T175652
CREATED:20260105T194634Z
LAST-MODIFIED:20260105T194634Z
UID:17301-1769007600-1769011200@tampabayhmpc.org
SUMMARY:BOLDplanning Webinar Series
DESCRIPTION:Join Here\n  \nBOLDplanning Webinar One-Pager Jan 21st
URL:https://tampabayhmpc.org/event/boldplanning-webinar-series-2/
CATEGORIES:Citrus,Events Calendar,Hardee,Hernando,Hillsborough,Manatee,Pasco,Pinellas,Polk,Sumter
END:VEVENT
BEGIN:VEVENT
DTSTART;TZID=America/New_York:20260122T140000
DTEND;TZID=America/New_York:20260122T153000
DTSTAMP:20260422T175652
CREATED:20231222T143720Z
LAST-MODIFIED:20260413T135250Z
UID:16979-1769090400-1769095800@tampabayhmpc.org
SUMMARY:Polk County Health Care Coalition Meeting
DESCRIPTION:
URL:https://tampabayhmpc.org/event/polk-county-health-care-coalition-meeting-4/2026-01-22/
CATEGORIES:Events Calendar,Polk
END:VEVENT
BEGIN:VEVENT
DTSTART;TZID=America/New_York:20260127T080000
DTEND;TZID=America/New_York:20260127T160000
DTSTAMP:20260422T175652
CREATED:20251201T141823Z
LAST-MODIFIED:20251201T141823Z
UID:17233-1769500800-1769529600@tampabayhmpc.org
SUMMARY:PER-370 Detecting Radiological Contamination for Hospital First Receivers
DESCRIPTION:Register Here\n  \nPER-370 Flyer TGH Brooksville January 27th
URL:https://tampabayhmpc.org/event/per-370-detecting-radiological-contamination-for-hospital-first-receivers-2/
LOCATION:Tampa General Hospital Brooksville\, 17240 Cortez Blvd\, Brooksville\, 34601
CATEGORIES:Citrus,Events Calendar,Hardee,Hernando,Hillsborough,Manatee,Pasco,Pinellas,Polk,Sumter
GEO:28.5385169;-82.4432848
X-APPLE-STRUCTURED-LOCATION;VALUE=URI;X-ADDRESS=Tampa General Hospital Brooksville 17240 Cortez Blvd Brooksville 34601;X-APPLE-RADIUS=500;X-TITLE=17240 Cortez Blvd:geo:-82.4432848,28.5385169
END:VEVENT
BEGIN:VEVENT
DTSTART;TZID=America/New_York:20260128T080000
DTEND;TZID=America/New_York:20260128T160000
DTSTAMP:20260422T175652
CREATED:20251201T142311Z
LAST-MODIFIED:20251201T142311Z
UID:17239-1769587200-1769616000@tampabayhmpc.org
SUMMARY:PER-370 Detecting Radiological Contamination for Hospital First Receivers
DESCRIPTION:Register Here\nPER-370 Flyer St Joes South January 28th
URL:https://tampabayhmpc.org/event/per-370-detecting-radiological-contamination-for-hospital-first-receivers-3/
LOCATION:St. Joseph’s Hospital South\, 6901 Simmons Loop\, Riverview\, 33578
CATEGORIES:Citrus,Events Calendar,Hardee,Hernando,Hillsborough,Manatee,Pasco,Pinellas,Polk,Sumter
GEO:27.7876884;-82.3449368
X-APPLE-STRUCTURED-LOCATION;VALUE=URI;X-ADDRESS=St. Joseph’s Hospital South 6901 Simmons Loop Riverview 33578;X-APPLE-RADIUS=500;X-TITLE=6901 Simmons Loop:geo:-82.3449368,27.7876884
END:VEVENT
BEGIN:VEVENT
DTSTART;TZID=America/New_York:20260128T110000
DTEND;TZID=America/New_York:20260128T120000
DTSTAMP:20260422T175652
CREATED:20230103T155239Z
LAST-MODIFIED:20260413T140023Z
UID:15511-1769598000-1769601600@tampabayhmpc.org
SUMMARY:Citrus County ESF-8 WG Meeting
DESCRIPTION:
URL:https://tampabayhmpc.org/event/citrus-county-esf-8-wg-meeting-4-2024-01-31/2026-01-28/
CATEGORIES:Citrus,Events Calendar
END:VEVENT
BEGIN:VEVENT
DTSTART;TZID=America/New_York:20260129T080000
DTEND;TZID=America/New_York:20260129T160000
DTSTAMP:20260422T175652
CREATED:20251201T142622Z
LAST-MODIFIED:20251201T142622Z
UID:17245-1769673600-1769702400@tampabayhmpc.org
SUMMARY:PER-370 Detecting Radiological Contamination for Hospital First Receivers
DESCRIPTION:Register Here\nPER-370 Flyer TBHMPC January 29th
URL:https://tampabayhmpc.org/event/per-370-detecting-radiological-contamination-for-hospital-first-receivers-4/
LOCATION:Tampa Bay Health & Medical Preparedness\, 7300 Bryan Dairy Rd #450\, Largo\, FL\, 33777\, United States
CATEGORIES:Citrus,Events Calendar,Hardee,Hernando,Hillsborough,Manatee,Pasco,Pinellas,Polk,Sumter
GEO:27.8716024;-82.7403615
X-APPLE-STRUCTURED-LOCATION;VALUE=URI;X-ADDRESS=Tampa Bay Health & Medical Preparedness 7300 Bryan Dairy Rd #450 Largo FL 33777 United States;X-APPLE-RADIUS=500;X-TITLE=7300 Bryan Dairy Rd #450:geo:-82.7403615,27.8716024
END:VEVENT
BEGIN:VEVENT
DTSTART;TZID=America/New_York:20260204T100000
DTEND;TZID=America/New_York:20260204T170000
DTSTAMP:20260422T175652
CREATED:20260120T155024Z
LAST-MODIFIED:20260120T155024Z
UID:17376-1770199200-1770224400@tampabayhmpc.org
SUMMARY:2026 TBHMPC Great Tornado Drill
DESCRIPTION:Register Here\n  \n2026 TBHMPC Great Tornado Drill Flyer
URL:https://tampabayhmpc.org/event/2026-tbhmpc-great-tornado-drill/
CATEGORIES:Citrus,Events Calendar,Hardee,Hernando,Hillsborough,Manatee,Pasco,Pinellas,Polk,Sumter
END:VEVENT
BEGIN:VEVENT
DTSTART;TZID=America/New_York:20260204T110000
DTEND;TZID=America/New_York:20260204T123000
DTSTAMP:20260422T175652
CREATED:20260114T180117Z
LAST-MODIFIED:20260114T180117Z
UID:17324-1770202800-1770208200@tampabayhmpc.org
SUMMARY:Empowering Leaders in Crisis: Novel Training Strategies for Executive Success
DESCRIPTION:Register Here\nEmpowering Leaders in Crisis (1)
URL:https://tampabayhmpc.org/event/empowering-leaders-in-crisis-novel-training-strategies-for-executive-success/
CATEGORIES:Citrus,Events Calendar,Hardee,Hernando,Hillsborough,Manatee,Pasco,Pinellas,Polk,Sumter
END:VEVENT
BEGIN:VEVENT
DTSTART;TZID=America/New_York:20260206T093000
DTEND;TZID=America/New_York:20260206T110000
DTSTAMP:20260422T175652
CREATED:20231218T163447Z
LAST-MODIFIED:20260413T135427Z
UID:15534-1770370200-1770375600@tampabayhmpc.org
SUMMARY:Pinellas CHAMP Meeting
DESCRIPTION:
URL:https://tampabayhmpc.org/event/pinellas-champ-meeting-5/2026-02-06/
LOCATION:John Hopkins All Children’s Hospital\, 600 5th Street South\, St. Petersburg\, FL\, 33701\, United States
CATEGORIES:Events Calendar,Pinellas
GEO:27.7639995;-82.6397272
X-APPLE-STRUCTURED-LOCATION;VALUE=URI;X-ADDRESS=John Hopkins All Children’s Hospital 600 5th Street South St. Petersburg FL 33701 United States;X-APPLE-RADIUS=500;X-TITLE=600 5th Street South:geo:-82.6397272,27.7639995
END:VEVENT
BEGIN:VEVENT
DTSTART;TZID=America/New_York:20260210T130000
DTEND;TZID=America/New_York:20260210T143000
DTSTAMP:20260422T175652
CREATED:20251209T202037Z
LAST-MODIFIED:20251209T202037Z
UID:17274-1770728400-1770733800@tampabayhmpc.org
SUMMARY:Mass Casualty Incident Response (HCV2)
DESCRIPTION:Register Here\nFlorida Healthcare Coalition VILT Student Registration Flyer
URL:https://tampabayhmpc.org/event/mass-casualty-incident-response-hcv2-2/
CATEGORIES:Citrus,Events Calendar,Hardee,Hernando,Hillsborough,Manatee,Pasco,Pinellas,Polk,Sumter
END:VEVENT
BEGIN:VEVENT
DTSTART;TZID=America/New_York:20260211T090000
DTEND;TZID=America/New_York:20260211T100000
DTSTAMP:20260422T175652
CREATED:20241205T162249Z
LAST-MODIFIED:20260413T135547Z
UID:16452-1770800400-1770804000@tampabayhmpc.org
SUMMARY:Hardee County Health Care Coalition
DESCRIPTION:
URL:https://tampabayhmpc.org/event/hardee-county-health-care-coalition/2026-02-11/
CATEGORIES:Events Calendar,Hardee
END:VEVENT
BEGIN:VEVENT
DTSTART;TZID=America/New_York:20260212T130000
DTEND;TZID=America/New_York:20260212T140000
DTSTAMP:20260422T175652
CREATED:20231222T144056Z
LAST-MODIFIED:20260413T135714Z
UID:15570-1770901200-1770904800@tampabayhmpc.org
SUMMARY:Hernando County ESF-8 WG Meeting
DESCRIPTION:
URL:https://tampabayhmpc.org/event/hernando-county-esf-8-wg-meeting-2/2026-02-12/
CATEGORIES:Events Calendar,Hernando
END:VEVENT
BEGIN:VEVENT
DTSTART;TZID=America/New_York:20260220T110000
DTEND;TZID=America/New_York:20260220T123000
DTSTAMP:20260422T175652
CREATED:20231222T143945Z
LAST-MODIFIED:20260120T152702Z
UID:15571-1771585200-1771590600@tampabayhmpc.org
SUMMARY:Sumter County ESF-8 WG Meeting
DESCRIPTION:
URL:https://tampabayhmpc.org/event/sumter-county-esf-8-wg-meeting-5-2026-02-19/
CATEGORIES:Events Calendar,Sumter
END:VEVENT
BEGIN:VEVENT
DTSTART;TZID=America/New_York:20260304T100000
DTEND;TZID=America/New_York:20260304T110000
DTSTAMP:20260422T175652
CREATED:20251209T202333Z
LAST-MODIFIED:20251209T202333Z
UID:17277-1772618400-1772622000@tampabayhmpc.org
SUMMARY:Special Needs Population Considerations During Emergency Response (HCV3)
DESCRIPTION:  \nRegister Here\nFlorida Healthcare Coalition VILT Student Registration Flyer
URL:https://tampabayhmpc.org/event/special-needs-population-considerations-during-emergency-response-hcv3-2/
CATEGORIES:Citrus,Events Calendar,Hardee,Hernando,Hillsborough,Manatee,Pasco,Pinellas,Polk,Sumter
END:VEVENT
BEGIN:VEVENT
DTSTART;TZID=America/New_York:20260309T093000
DTEND;TZID=America/New_York:20260309T110000
DTSTAMP:20260422T175652
CREATED:20250904T183458Z
LAST-MODIFIED:20260413T134556Z
UID:17007-1773048600-1773054000@tampabayhmpc.org
SUMMARY:Pasco County HMPC Meeting
DESCRIPTION:
URL:https://tampabayhmpc.org/event/polk-county-hmpc-meeting/2026-03-09/
CATEGORIES:Events Calendar,Pasco
END:VEVENT
BEGIN:VEVENT
DTSTART;TZID=America/New_York:20260311T130000
DTEND;TZID=America/New_York:20260311T143000
DTSTAMP:20260422T175652
CREATED:20241205T162136Z
LAST-MODIFIED:20260413T134725Z
UID:16962-1773234000-1773239400@tampabayhmpc.org
SUMMARY:Manatee CHAMP Meeting
DESCRIPTION:
URL:https://tampabayhmpc.org/event/manatee-champ-meeting-15/2026-03-11/
CATEGORIES:Events Calendar,Manatee
END:VEVENT
BEGIN:VEVENT
DTSTART;TZID=America/New_York:20260317T100000
DTEND;TZID=America/New_York:20260317T113000
DTSTAMP:20260422T175652
CREATED:20151016T115131Z
LAST-MODIFIED:20260413T134854Z
UID:16422-1773741600-1773747000@tampabayhmpc.org
SUMMARY:Hillsborough County Health Care Coalition Meeting
DESCRIPTION:
URL:https://tampabayhmpc.org/event/hillsborough-county-healthcare-coalition-meeting-2025-01-16/2026-03-17/
LOCATION:Hillsborough County EOC\, 9450 E. Columbus Drive\, Tampa\, FL\, 33619\, United States
CATEGORIES:Events Calendar,Hillsborough
GEO:27.9677989;-82.3436723
X-APPLE-STRUCTURED-LOCATION;VALUE=URI;X-ADDRESS=Hillsborough County EOC 9450 E. Columbus Drive Tampa FL 33619 United States;X-APPLE-RADIUS=500;X-TITLE=9450 E. Columbus Drive:geo:-82.3436723,27.9677989
END:VEVENT
BEGIN:VEVENT
DTSTART;TZID=America/New_York:20260324T130000
DTEND;TZID=America/New_York:20260324T143000
DTSTAMP:20260422T175652
CREATED:20260223T171240Z
LAST-MODIFIED:20260306T161622Z
UID:17414-1774357200-1774362600@tampabayhmpc.org
SUMMARY:Downtime Operations Webinar Series: The Blueprint for Resilience
DESCRIPTION:Register Here\nTBHMPC is sponsoring a series of Downtime Operations Webinars in collaboration with Jensen Hughes. \nThe webinars are designed to provide valuable insights and practical strategies for managing downtime events effectively within various operational environments. Each session will focus on a different downtime topic and will feature industry experts from Jensen Hughes\, who will share their knowledge and answer participant questions. Attendees will have the opportunity to engage in interactive discussions\, learn about best practices\, and gain resources that can help minimize disruptions and improve overall operational resilience. \nEach session will be available at two different times. Participants may select either the Tuesday offering at 1:00 pm or the Thursday offering at 10:00 am. \n \n  \n 
URL:https://tampabayhmpc.org/event/downtime-operations-webinar-series-the-blueprint-for-resilience-overview-clinical-continuity/2026-03-24/
END:VEVENT
BEGIN:VEVENT
DTSTART;TZID=America/New_York:20260326T100000
DTEND;TZID=America/New_York:20260326T110000
DTSTAMP:20260422T175652
CREATED:20260223T171240Z
LAST-MODIFIED:20260223T192456Z
UID:17417-1774519200-1774522800@tampabayhmpc.org
SUMMARY:Downtime Operations Webinar Series: The Blueprint for Resilience (Overview & Clinical Continuity)
DESCRIPTION:Register Here\nTBHMPC is sponsoring a series of Downtime Operations Webinars hosted by Jensen Hughes. \nThe webinars are designed to provide valuable insights and practical strategies for managing downtime events effectively within various operational environments. Each session will feature industry experts from Jensen Hughes\, who will share their knowledge and answer participant questions. Attendees will have the opportunity to engage in interactive discussions\, learn about best practices\, and gain resources that can help minimize disruptions and improve overall operational resilience. \nEach session will be available at two different times. Participants may select either the Tuesday offering at 1:00 pm or the Thursday offering at 10:00 am. \n \n  \n 
URL:https://tampabayhmpc.org/event/downtime-operations-webinar-series-the-blueprint-for-resilience-overview-clinical-continuity-2026-03-26/
END:VEVENT
BEGIN:VEVENT
DTSTART;TZID=America/New_York:20260326T140000
DTEND;TZID=America/New_York:20260326T153000
DTSTAMP:20260422T175652
CREATED:20231222T143720Z
LAST-MODIFIED:20260413T135303Z
UID:16980-1774533600-1774539000@tampabayhmpc.org
SUMMARY:Polk County Health Care Coalition Meeting
DESCRIPTION:
URL:https://tampabayhmpc.org/event/polk-county-health-care-coalition-meeting-4/2026-03-26/
CATEGORIES:Events Calendar,Polk
END:VEVENT
BEGIN:VEVENT
DTSTART;TZID=America/New_York:20260402T110000
DTEND;TZID=America/New_York:20260402T123000
DTSTAMP:20260422T175652
CREATED:20260305T203446Z
LAST-MODIFIED:20260305T203516Z
UID:17443-1775127600-1775133000@tampabayhmpc.org
SUMMARY:Myth vs Reality of Hospital DECON Operations
DESCRIPTION:  \nRegister Here\nDecontamination (DECON) is critical in emergency response—but misinformation can delay action\, increase risk\, and compromise safety. Join us as we separate “Myth vs Reality” and strengthen your preparedness strategy. \n  \nMyths and Realities Flyer 2026
URL:https://tampabayhmpc.org/event/myth-vs-reality-of-hospital-decon-operations/
CATEGORIES:Citrus,Events Calendar,Hardee,Hernando,Hillsborough,Manatee,Pasco,Pinellas,Polk,Sumter
END:VEVENT
BEGIN:VEVENT
DTSTART;TZID=America/New_York:20260403T093000
DTEND;TZID=America/New_York:20260403T110000
DTSTAMP:20260422T175652
CREATED:20231218T163447Z
LAST-MODIFIED:20260413T135438Z
UID:15728-1775208600-1775214000@tampabayhmpc.org
SUMMARY:Pinellas CHAMP Meeting
DESCRIPTION:
URL:https://tampabayhmpc.org/event/pinellas-champ-meeting-5/2026-04-03/
LOCATION:John Hopkins All Children’s Hospital\, 600 5th Street South\, St. Petersburg\, FL\, 33701\, United States
CATEGORIES:Events Calendar,Pinellas
GEO:27.7639995;-82.6397272
X-APPLE-STRUCTURED-LOCATION;VALUE=URI;X-ADDRESS=John Hopkins All Children’s Hospital 600 5th Street South St. Petersburg FL 33701 United States;X-APPLE-RADIUS=500;X-TITLE=600 5th Street South:geo:-82.6397272,27.7639995
END:VEVENT
BEGIN:VEVENT
DTSTART;TZID=America/New_York:20260408T090000
DTEND;TZID=America/New_York:20260408T100000
DTSTAMP:20260422T175652
CREATED:20241205T162249Z
LAST-MODIFIED:20260413T135607Z
UID:16453-1775638800-1775642400@tampabayhmpc.org
SUMMARY:Hardee County Health Care Coalition
DESCRIPTION:
URL:https://tampabayhmpc.org/event/hardee-county-health-care-coalition/2026-04-08/
CATEGORIES:Events Calendar,Hardee
END:VEVENT
BEGIN:VEVENT
DTSTART;TZID=America/New_York:20260409T080000
DTEND;TZID=America/New_York:20260409T120000
DTSTAMP:20260422T175652
CREATED:20260313T165729Z
LAST-MODIFIED:20260313T165729Z
UID:17467-1775721600-1775736000@tampabayhmpc.org
SUMMARY:2026 Mass Casualty Exercise
DESCRIPTION:
URL:https://tampabayhmpc.org/event/2026-mass-casualty-exercise/
CATEGORIES:Citrus,Events Calendar,Hardee,Hernando,Hillsborough,Manatee,Pasco,Pinellas,Polk,Sumter
END:VEVENT
BEGIN:VEVENT
DTSTART;TZID=America/New_York:20260416T110000
DTEND;TZID=America/New_York:20260416T120000
DTSTAMP:20260422T175652
CREATED:20231222T143945Z
LAST-MODIFIED:20260413T133736Z
UID:15736-1776337200-1776340800@tampabayhmpc.org
SUMMARY:Sumter County ESF-8 WG Meeting
DESCRIPTION:
URL:https://tampabayhmpc.org/event/sumter-county-esf-8-wg-meeting-5/2026-04-16/
CATEGORIES:Events Calendar,Sumter
END:VEVENT
END:VCALENDAR