BEGIN:VCALENDAR
VERSION:2.0
PRODID:-//Tampa Bay HMPC - ECPv6.15.20//NONSGML v1.0//EN
CALSCALE:GREGORIAN
METHOD:PUBLISH
X-WR-CALNAME:Tampa Bay HMPC
X-ORIGINAL-URL:https://tampabayhmpc.org
X-WR-CALDESC:Events for Tampa Bay HMPC
REFRESH-INTERVAL;VALUE=DURATION:PT1H
X-Robots-Tag:noindex
X-PUBLISHED-TTL:PT1H
BEGIN:VTIMEZONE
TZID:America/New_York
BEGIN:DAYLIGHT
TZOFFSETFROM:-0500
TZOFFSETTO:-0400
TZNAME:EDT
DTSTART:20260308T070000
END:DAYLIGHT
BEGIN:STANDARD
TZOFFSETFROM:-0400
TZOFFSETTO:-0500
TZNAME:EST
DTSTART:20261101T060000
END:STANDARD
BEGIN:DAYLIGHT
TZOFFSETFROM:-0500
TZOFFSETTO:-0400
TZNAME:EDT
DTSTART:20270314T070000
END:DAYLIGHT
BEGIN:STANDARD
TZOFFSETFROM:-0400
TZOFFSETTO:-0500
TZNAME:EST
DTSTART:20271107T060000
END:STANDARD
BEGIN:DAYLIGHT
TZOFFSETFROM:-0500
TZOFFSETTO:-0400
TZNAME:EDT
DTSTART:20280312T070000
END:DAYLIGHT
BEGIN:STANDARD
TZOFFSETFROM:-0400
TZOFFSETTO:-0500
TZNAME:EST
DTSTART:20281105T060000
END:STANDARD
END:VTIMEZONE
BEGIN:VTIMEZONE
TZID:America/New_York
BEGIN:DAYLIGHT
TZOFFSETFROM:-0500
TZOFFSETTO:-0400
TZNAME:EDT
DTSTART:20260308T070000
END:DAYLIGHT
BEGIN:STANDARD
TZOFFSETFROM:-0400
TZOFFSETTO:-0500
TZNAME:EST
DTSTART:20261101T060000
END:STANDARD
BEGIN:DAYLIGHT
TZOFFSETFROM:-0500
TZOFFSETTO:-0400
TZNAME:EDT
DTSTART:20270314T070000
END:DAYLIGHT
BEGIN:STANDARD
TZOFFSETFROM:-0400
TZOFFSETTO:-0500
TZNAME:EST
DTSTART:20271107T060000
END:STANDARD
BEGIN:DAYLIGHT
TZOFFSETFROM:-0500
TZOFFSETTO:-0400
TZNAME:EDT
DTSTART:20280312T070000
END:DAYLIGHT
BEGIN:STANDARD
TZOFFSETFROM:-0400
TZOFFSETTO:-0500
TZNAME:EST
DTSTART:20281105T060000
END:STANDARD
END:VTIMEZONE
BEGIN:VEVENT
DTSTART;TZID=America/New_York:20270526T110000
DTEND;TZID=America/New_York:20270526T120000
DTSTAMP:20260423T035542
CREATED:20230103T155239Z
LAST-MODIFIED:20260413T140108Z
UID:16774-1811329200-1811332800@tampabayhmpc.org
SUMMARY:Citrus County ESF-8 WG Meeting
DESCRIPTION:
URL:https://tampabayhmpc.org/event/citrus-county-esf-8-wg-meeting-4-2024-01-31/2027-05-26/
CATEGORIES:Citrus,Events Calendar
END:VEVENT
BEGIN:VEVENT
DTSTART;TZID=America/New_York:20270527T140000
DTEND;TZID=America/New_York:20270527T153000
DTSTAMP:20260423T035542
CREATED:20231222T143720Z
LAST-MODIFIED:20231222T143720Z
UID:16987-1811426400-1811431800@tampabayhmpc.org
SUMMARY:Polk County Health Care Coalition Meeting
DESCRIPTION:
URL:https://tampabayhmpc.org/event/polk-county-health-care-coalition-meeting-4/2027-05-27/
CATEGORIES:Events Calendar,Polk
END:VEVENT
BEGIN:VEVENT
DTSTART;TZID=America/New_York:20270604T093000
DTEND;TZID=America/New_York:20270604T110000
DTSTAMP:20260423T035542
CREATED:20231218T163447Z
LAST-MODIFIED:20260413T135538Z
UID:16796-1812101400-1812106800@tampabayhmpc.org
SUMMARY:Pinellas CHAMP Meeting
DESCRIPTION:
URL:https://tampabayhmpc.org/event/pinellas-champ-meeting-5/2027-06-04/
LOCATION:John Hopkins All Children’s Hospital\, 600 5th Street South\, St. Petersburg\, FL\, 33701\, United States
CATEGORIES:Events Calendar,Pinellas
GEO:27.7639995;-82.6397272
X-APPLE-STRUCTURED-LOCATION;VALUE=URI;X-ADDRESS=John Hopkins All Children’s Hospital 600 5th Street South St. Petersburg FL 33701 United States;X-APPLE-RADIUS=500;X-TITLE=600 5th Street South:geo:-82.6397272,27.7639995
END:VEVENT
BEGIN:VEVENT
DTSTART;TZID=America/New_York:20270609T090000
DTEND;TZID=America/New_York:20270609T100000
DTSTAMP:20260423T035542
CREATED:20241205T162249Z
LAST-MODIFIED:20260413T135727Z
UID:16807-1812531600-1812535200@tampabayhmpc.org
SUMMARY:Hardee County Health Care Coalition
DESCRIPTION:
URL:https://tampabayhmpc.org/event/hardee-county-health-care-coalition/2027-06-09/
CATEGORIES:Events Calendar,Hardee
END:VEVENT
BEGIN:VEVENT
DTSTART;TZID=America/New_York:20270610T130000
DTEND;TZID=America/New_York:20270610T140000
DTSTAMP:20260423T035542
CREATED:20231222T144056Z
LAST-MODIFIED:20260413T135803Z
UID:16809-1812632400-1812636000@tampabayhmpc.org
SUMMARY:Hernando County ESF-8 WG Meeting
DESCRIPTION:
URL:https://tampabayhmpc.org/event/hernando-county-esf-8-wg-meeting-2/2027-06-10/
CATEGORIES:Events Calendar,Hernando
END:VEVENT
BEGIN:VEVENT
DTSTART;TZID=America/New_York:20270617T110000
DTEND;TZID=America/New_York:20270617T120000
DTSTAMP:20260423T035542
CREATED:20231222T143945Z
LAST-MODIFIED:20231222T143945Z
UID:16829-1813230000-1813233600@tampabayhmpc.org
SUMMARY:Sumter County ESF-8 WG Meeting
DESCRIPTION:
URL:https://tampabayhmpc.org/event/sumter-county-esf-8-wg-meeting-5/2027-06-17/
CATEGORIES:Events Calendar,Sumter
END:VEVENT
BEGIN:VEVENT
DTSTART;TZID=America/New_York:20270712T093000
DTEND;TZID=America/New_York:20270712T110000
DTSTAMP:20260423T035542
CREATED:20250904T183458Z
LAST-MODIFIED:20250904T183808Z
UID:17016-1815384600-1815390000@tampabayhmpc.org
SUMMARY:Pasco County HMPC Meeting
DESCRIPTION:
URL:https://tampabayhmpc.org/event/polk-county-hmpc-meeting/2027-07-12/
CATEGORIES:Events Calendar,Pasco
END:VEVENT
BEGIN:VEVENT
DTSTART;TZID=America/New_York:20270714T130000
DTEND;TZID=America/New_York:20270714T143000
DTSTAMP:20260423T035542
CREATED:20241205T162136Z
LAST-MODIFIED:20241205T162136Z
UID:16970-1815570000-1815575400@tampabayhmpc.org
SUMMARY:Manatee CHAMP Meeting
DESCRIPTION:
URL:https://tampabayhmpc.org/event/manatee-champ-meeting-15/2027-07-14/
CATEGORIES:Events Calendar,Manatee
END:VEVENT
BEGIN:VEVENT
DTSTART;TZID=America/New_York:20270715T100000
DTEND;TZID=America/New_York:20270715T113000
DTSTAMP:20260423T035542
CREATED:20151016T115131Z
LAST-MODIFIED:20151016T115131Z
UID:16887-1815645600-1815651000@tampabayhmpc.org
SUMMARY:Hillsborough County Health Care Coalition Meeting
DESCRIPTION:
URL:https://tampabayhmpc.org/event/hillsborough-county-healthcare-coalition-meeting/2027-07-15/
LOCATION:TGH People Development Institute\, 39 Columbia Dr\, Tampa\, FL\, 33606\, United States
CATEGORIES:Events Calendar,Hillsborough
GEO:27.9677989;-82.3436723
X-APPLE-STRUCTURED-LOCATION;VALUE=URI;X-ADDRESS=TGH People Development Institute 39 Columbia Dr Tampa FL 33606 United States;X-APPLE-RADIUS=500;X-TITLE=39 Columbia Dr:geo:-82.3436723,27.9677989
END:VEVENT
BEGIN:VEVENT
DTSTART;TZID=America/New_York:20270720T100000
DTEND;TZID=America/New_York:20270720T113000
DTSTAMP:20260423T035543
CREATED:20151016T115131Z
LAST-MODIFIED:20260413T135111Z
UID:16888-1816077600-1816083000@tampabayhmpc.org
SUMMARY:Hillsborough County Health Care Coalition Meeting
DESCRIPTION:
URL:https://tampabayhmpc.org/event/hillsborough-county-healthcare-coalition-meeting-2025-01-16/2027-07-20/
LOCATION:Hillsborough County EOC\, 9450 E. Columbus Drive\, Tampa\, FL\, 33619\, United States
CATEGORIES:Events Calendar,Hillsborough
GEO:27.9677989;-82.3436723
X-APPLE-STRUCTURED-LOCATION;VALUE=URI;X-ADDRESS=Hillsborough County EOC 9450 E. Columbus Drive Tampa FL 33619 United States;X-APPLE-RADIUS=500;X-TITLE=9450 E. Columbus Drive:geo:-82.3436723,27.9677989
END:VEVENT
BEGIN:VEVENT
DTSTART;TZID=America/New_York:20270722T140000
DTEND;TZID=America/New_York:20270722T153000
DTSTAMP:20260423T035543
CREATED:20231222T143720Z
LAST-MODIFIED:20231222T143720Z
UID:16988-1816264800-1816270200@tampabayhmpc.org
SUMMARY:Polk County Health Care Coalition Meeting
DESCRIPTION:
URL:https://tampabayhmpc.org/event/polk-county-health-care-coalition-meeting-4/2027-07-22/
CATEGORIES:Events Calendar,Polk
END:VEVENT
BEGIN:VEVENT
DTSTART;TZID=America/New_York:20270728T110000
DTEND;TZID=America/New_York:20270728T120000
DTSTAMP:20260423T035543
CREATED:20230103T155239Z
LAST-MODIFIED:20260413T140117Z
UID:16927-1816772400-1816776000@tampabayhmpc.org
SUMMARY:Citrus County ESF-8 WG Meeting
DESCRIPTION:
URL:https://tampabayhmpc.org/event/citrus-county-esf-8-wg-meeting-4-2024-01-31/2027-07-28/
CATEGORIES:Citrus,Events Calendar
END:VEVENT
BEGIN:VEVENT
DTSTART;TZID=America/New_York:20270806T093000
DTEND;TZID=America/New_York:20270806T110000
DTSTAMP:20260423T035543
CREATED:20231218T163447Z
LAST-MODIFIED:20260413T135544Z
UID:16943-1817544600-1817550000@tampabayhmpc.org
SUMMARY:Pinellas CHAMP Meeting
DESCRIPTION:
URL:https://tampabayhmpc.org/event/pinellas-champ-meeting-5/2027-08-06/
LOCATION:John Hopkins All Children’s Hospital\, 600 5th Street South\, St. Petersburg\, FL\, 33701\, United States
CATEGORIES:Events Calendar,Pinellas
GEO:27.7639995;-82.6397272
X-APPLE-STRUCTURED-LOCATION;VALUE=URI;X-ADDRESS=John Hopkins All Children’s Hospital 600 5th Street South St. Petersburg FL 33701 United States;X-APPLE-RADIUS=500;X-TITLE=600 5th Street South:geo:-82.6397272,27.7639995
END:VEVENT
BEGIN:VEVENT
DTSTART;TZID=America/New_York:20270811T090000
DTEND;TZID=America/New_York:20270811T100000
DTSTAMP:20260423T035543
CREATED:20241205T162249Z
LAST-MODIFIED:20260413T135735Z
UID:16945-1817974800-1817978400@tampabayhmpc.org
SUMMARY:Hardee County Health Care Coalition
DESCRIPTION:
URL:https://tampabayhmpc.org/event/hardee-county-health-care-coalition/2027-08-11/
CATEGORIES:Events Calendar,Hardee
END:VEVENT
BEGIN:VEVENT
DTSTART;TZID=America/New_York:20270812T130000
DTEND;TZID=America/New_York:20270812T140000
DTSTAMP:20260423T035543
CREATED:20231222T144056Z
LAST-MODIFIED:20260413T135812Z
UID:16947-1818075600-1818079200@tampabayhmpc.org
SUMMARY:Hernando County ESF-8 WG Meeting
DESCRIPTION:
URL:https://tampabayhmpc.org/event/hernando-county-esf-8-wg-meeting-2/2027-08-12/
CATEGORIES:Events Calendar,Hernando
END:VEVENT
BEGIN:VEVENT
DTSTART;TZID=America/New_York:20270819T110000
DTEND;TZID=America/New_York:20270819T120000
DTSTAMP:20260423T035543
CREATED:20231222T143945Z
LAST-MODIFIED:20231222T143945Z
UID:16948-1818673200-1818676800@tampabayhmpc.org
SUMMARY:Sumter County ESF-8 WG Meeting
DESCRIPTION:
URL:https://tampabayhmpc.org/event/sumter-county-esf-8-wg-meeting-5/2027-08-19/
CATEGORIES:Events Calendar,Sumter
END:VEVENT
BEGIN:VEVENT
DTSTART;TZID=America/New_York:20270908T130000
DTEND;TZID=America/New_York:20270908T143000
DTSTAMP:20260423T035543
CREATED:20241205T162136Z
LAST-MODIFIED:20241205T162136Z
UID:17037-1820408400-1820413800@tampabayhmpc.org
SUMMARY:Manatee CHAMP Meeting
DESCRIPTION:
URL:https://tampabayhmpc.org/event/manatee-champ-meeting-15/2027-09-08/
CATEGORIES:Events Calendar,Manatee
END:VEVENT
BEGIN:VEVENT
DTSTART;TZID=America/New_York:20270913T093000
DTEND;TZID=America/New_York:20270913T110000
DTSTAMP:20260423T035543
CREATED:20221230T140130Z
LAST-MODIFIED:20221230T140130Z
UID:17039-1820827800-1820833200@tampabayhmpc.org
SUMMARY:Pasco County HMPC Meeting
DESCRIPTION:
URL:https://tampabayhmpc.org/event/pasco-county-hmpc-meeting-2024-01-08/2027-09-13/
CATEGORIES:Events Calendar,Pasco
END:VEVENT
BEGIN:VEVENT
DTSTART;TZID=America/New_York:20270913T093000
DTEND;TZID=America/New_York:20270913T110000
DTSTAMP:20260423T035543
CREATED:20250904T183458Z
LAST-MODIFIED:20250904T183458Z
UID:17041-1820827800-1820833200@tampabayhmpc.org
SUMMARY:Pasco County HMPC Meeting
DESCRIPTION:
URL:https://tampabayhmpc.org/event/polk-county-hmpc-meeting/2027-09-13/
CATEGORIES:Events Calendar,Pasco
END:VEVENT
BEGIN:VEVENT
DTSTART;TZID=America/New_York:20270916T100000
DTEND;TZID=America/New_York:20270916T113000
DTSTAMP:20260423T035543
CREATED:20151016T115131Z
LAST-MODIFIED:20151016T115131Z
UID:17047-1821088800-1821094200@tampabayhmpc.org
SUMMARY:Hillsborough County Health Care Coalition Meeting
DESCRIPTION:
URL:https://tampabayhmpc.org/event/hillsborough-county-healthcare-coalition-meeting/2027-09-16/
LOCATION:TGH People Development Institute\, 39 Columbia Dr\, Tampa\, FL\, 33606\, United States
CATEGORIES:Events Calendar,Hillsborough
GEO:27.9677989;-82.3436723
X-APPLE-STRUCTURED-LOCATION;VALUE=URI;X-ADDRESS=TGH People Development Institute 39 Columbia Dr Tampa FL 33606 United States;X-APPLE-RADIUS=500;X-TITLE=39 Columbia Dr:geo:-82.3436723,27.9677989
END:VEVENT
BEGIN:VEVENT
DTSTART;TZID=America/New_York:20270921T100000
DTEND;TZID=America/New_York:20270921T113000
DTSTAMP:20260423T035543
CREATED:20151016T115131Z
LAST-MODIFIED:20260413T135136Z
UID:17063-1821520800-1821526200@tampabayhmpc.org
SUMMARY:Hillsborough County Health Care Coalition Meeting
DESCRIPTION:
URL:https://tampabayhmpc.org/event/hillsborough-county-healthcare-coalition-meeting-2025-01-16/2027-09-21/
LOCATION:Hillsborough County EOC\, 9450 E. Columbus Drive\, Tampa\, FL\, 33619\, United States
CATEGORIES:Events Calendar,Hillsborough
GEO:27.9677989;-82.3436723
X-APPLE-STRUCTURED-LOCATION;VALUE=URI;X-ADDRESS=Hillsborough County EOC 9450 E. Columbus Drive Tampa FL 33619 United States;X-APPLE-RADIUS=500;X-TITLE=9450 E. Columbus Drive:geo:-82.3436723,27.9677989
END:VEVENT
BEGIN:VEVENT
DTSTART;TZID=America/New_York:20270923T140000
DTEND;TZID=America/New_York:20270923T153000
DTSTAMP:20260423T035543
CREATED:20231222T143720Z
LAST-MODIFIED:20231222T143720Z
UID:17064-1821708000-1821713400@tampabayhmpc.org
SUMMARY:Polk County Health Care Coalition Meeting
DESCRIPTION:
URL:https://tampabayhmpc.org/event/polk-county-health-care-coalition-meeting-4/2027-09-23/
CATEGORIES:Events Calendar,Polk
END:VEVENT
BEGIN:VEVENT
DTSTART;TZID=America/New_York:20270929T110000
DTEND;TZID=America/New_York:20270929T120000
DTSTAMP:20260423T035543
CREATED:20230103T155239Z
LAST-MODIFIED:20260413T140127Z
UID:17068-1822215600-1822219200@tampabayhmpc.org
SUMMARY:Citrus County ESF-8 WG Meeting
DESCRIPTION:
URL:https://tampabayhmpc.org/event/citrus-county-esf-8-wg-meeting-4-2024-01-31/2027-09-29/
CATEGORIES:Citrus,Events Calendar
END:VEVENT
BEGIN:VEVENT
DTSTART;TZID=America/New_York:20271001T093000
DTEND;TZID=America/New_York:20271001T110000
DTSTAMP:20260423T035543
CREATED:20231218T163447Z
LAST-MODIFIED:20231218T163447Z
UID:17070-1822383000-1822388400@tampabayhmpc.org
SUMMARY:Pinellas CHAMP Meeting
DESCRIPTION:
URL:https://tampabayhmpc.org/event/pinellas-champ-meeting-5/2027-10-01/
LOCATION:John Hopkins All Children’s Hospital\, 600 5th Street South\, St. Petersburg\, FL\, 33701\, United States
CATEGORIES:Events Calendar,Pinellas
GEO:27.7639995;-82.6397272
X-APPLE-STRUCTURED-LOCATION;VALUE=URI;X-ADDRESS=John Hopkins All Children’s Hospital 600 5th Street South St. Petersburg FL 33701 United States;X-APPLE-RADIUS=500;X-TITLE=600 5th Street South:geo:-82.6397272,27.7639995
END:VEVENT
BEGIN:VEVENT
DTSTART;TZID=America/New_York:20271013T090000
DTEND;TZID=America/New_York:20271013T100000
DTSTAMP:20260423T035543
CREATED:20241205T162249Z
LAST-MODIFIED:20260413T135743Z
UID:17105-1823418000-1823421600@tampabayhmpc.org
SUMMARY:Hardee County Health Care Coalition
DESCRIPTION:
URL:https://tampabayhmpc.org/event/hardee-county-health-care-coalition/2027-10-13/
CATEGORIES:Events Calendar,Hardee
END:VEVENT
BEGIN:VEVENT
DTSTART;TZID=America/New_York:20271014T130000
DTEND;TZID=America/New_York:20271014T140000
DTSTAMP:20260423T035543
CREATED:20231222T144056Z
LAST-MODIFIED:20260413T135819Z
UID:17126-1823518800-1823522400@tampabayhmpc.org
SUMMARY:Hernando County ESF-8 WG Meeting
DESCRIPTION:
URL:https://tampabayhmpc.org/event/hernando-county-esf-8-wg-meeting-2/2027-10-14/
CATEGORIES:Events Calendar,Hernando
END:VEVENT
BEGIN:VEVENT
DTSTART;TZID=America/New_York:20271021T110000
DTEND;TZID=America/New_York:20271021T120000
DTSTAMP:20260423T035543
CREATED:20231222T143945Z
LAST-MODIFIED:20231222T143945Z
UID:17176-1824116400-1824120000@tampabayhmpc.org
SUMMARY:Sumter County ESF-8 WG Meeting
DESCRIPTION:
URL:https://tampabayhmpc.org/event/sumter-county-esf-8-wg-meeting-5/2027-10-21/
CATEGORIES:Events Calendar,Sumter
END:VEVENT
BEGIN:VEVENT
DTSTART;TZID=America/New_York:20271108T093000
DTEND;TZID=America/New_York:20271108T110000
DTSTAMP:20260423T035543
CREATED:20221230T140130Z
LAST-MODIFIED:20221230T140130Z
UID:17204-1825666200-1825671600@tampabayhmpc.org
SUMMARY:Pasco County HMPC Meeting
DESCRIPTION:
URL:https://tampabayhmpc.org/event/pasco-county-hmpc-meeting-2024-01-08/2027-11-08/
CATEGORIES:Events Calendar,Pasco
END:VEVENT
BEGIN:VEVENT
DTSTART;TZID=America/New_York:20271108T093000
DTEND;TZID=America/New_York:20271108T110000
DTSTAMP:20260423T035543
CREATED:20250904T183458Z
LAST-MODIFIED:20250904T183458Z
UID:17206-1825666200-1825671600@tampabayhmpc.org
SUMMARY:Pasco County HMPC Meeting
DESCRIPTION:
URL:https://tampabayhmpc.org/event/polk-county-hmpc-meeting/2027-11-08/
CATEGORIES:Events Calendar,Pasco
END:VEVENT
BEGIN:VEVENT
DTSTART;TZID=America/New_York:20271110T130000
DTEND;TZID=America/New_York:20271110T143000
DTSTAMP:20260423T035543
CREATED:20241205T162136Z
LAST-MODIFIED:20241205T162136Z
UID:17207-1825851600-1825857000@tampabayhmpc.org
SUMMARY:Manatee CHAMP Meeting
DESCRIPTION:
URL:https://tampabayhmpc.org/event/manatee-champ-meeting-15/2027-11-10/
CATEGORIES:Events Calendar,Manatee
END:VEVENT
END:VCALENDAR