BEGIN:VCALENDAR
VERSION:2.0
PRODID:-//Tampa Bay HMPC - ECPv6.15.20//NONSGML v1.0//EN
CALSCALE:GREGORIAN
METHOD:PUBLISH
X-WR-CALNAME:Tampa Bay HMPC
X-ORIGINAL-URL:https://tampabayhmpc.org
X-WR-CALDESC:Events for Tampa Bay HMPC
REFRESH-INTERVAL;VALUE=DURATION:PT1H
X-Robots-Tag:noindex
X-PUBLISHED-TTL:PT1H
BEGIN:VTIMEZONE
TZID:America/New_York
BEGIN:DAYLIGHT
TZOFFSETFROM:-0500
TZOFFSETTO:-0400
TZNAME:EDT
DTSTART:20260308T070000
END:DAYLIGHT
BEGIN:STANDARD
TZOFFSETFROM:-0400
TZOFFSETTO:-0500
TZNAME:EST
DTSTART:20261101T060000
END:STANDARD
BEGIN:DAYLIGHT
TZOFFSETFROM:-0500
TZOFFSETTO:-0400
TZNAME:EDT
DTSTART:20270314T070000
END:DAYLIGHT
BEGIN:STANDARD
TZOFFSETFROM:-0400
TZOFFSETTO:-0500
TZNAME:EST
DTSTART:20271107T060000
END:STANDARD
BEGIN:DAYLIGHT
TZOFFSETFROM:-0500
TZOFFSETTO:-0400
TZNAME:EDT
DTSTART:20280312T070000
END:DAYLIGHT
BEGIN:STANDARD
TZOFFSETFROM:-0400
TZOFFSETTO:-0500
TZNAME:EST
DTSTART:20281105T060000
END:STANDARD
BEGIN:DAYLIGHT
TZOFFSETFROM:-0500
TZOFFSETTO:-0400
TZNAME:EDT
DTSTART:20290311T070000
END:DAYLIGHT
BEGIN:STANDARD
TZOFFSETFROM:-0400
TZOFFSETTO:-0500
TZNAME:EST
DTSTART:20291104T060000
END:STANDARD
END:VTIMEZONE
BEGIN:VTIMEZONE
TZID:America/New_York
BEGIN:DAYLIGHT
TZOFFSETFROM:-0500
TZOFFSETTO:-0400
TZNAME:EDT
DTSTART:20260308T070000
END:DAYLIGHT
BEGIN:STANDARD
TZOFFSETFROM:-0400
TZOFFSETTO:-0500
TZNAME:EST
DTSTART:20261101T060000
END:STANDARD
BEGIN:DAYLIGHT
TZOFFSETFROM:-0500
TZOFFSETTO:-0400
TZNAME:EDT
DTSTART:20270314T070000
END:DAYLIGHT
BEGIN:STANDARD
TZOFFSETFROM:-0400
TZOFFSETTO:-0500
TZNAME:EST
DTSTART:20271107T060000
END:STANDARD
BEGIN:DAYLIGHT
TZOFFSETFROM:-0500
TZOFFSETTO:-0400
TZNAME:EDT
DTSTART:20280312T070000
END:DAYLIGHT
BEGIN:STANDARD
TZOFFSETFROM:-0400
TZOFFSETTO:-0500
TZNAME:EST
DTSTART:20281105T060000
END:STANDARD
BEGIN:DAYLIGHT
TZOFFSETFROM:-0500
TZOFFSETTO:-0400
TZNAME:EDT
DTSTART:20290311T070000
END:DAYLIGHT
BEGIN:STANDARD
TZOFFSETFROM:-0400
TZOFFSETTO:-0500
TZNAME:EST
DTSTART:20291104T060000
END:STANDARD
END:VTIMEZONE
BEGIN:VEVENT
DTSTART;TZID=America/New_York:20271021T110000
DTEND;TZID=America/New_York:20271021T120000
DTSTAMP:20260423T164604
CREATED:20231222T143945Z
LAST-MODIFIED:20231222T143945Z
UID:17176-1824116400-1824120000@tampabayhmpc.org
SUMMARY:Sumter County ESF-8 WG Meeting
DESCRIPTION:
URL:https://tampabayhmpc.org/event/sumter-county-esf-8-wg-meeting-5/2027-10-21/
CATEGORIES:Events Calendar,Sumter
END:VEVENT
BEGIN:VEVENT
DTSTART;TZID=America/New_York:20271108T093000
DTEND;TZID=America/New_York:20271108T110000
DTSTAMP:20260423T164604
CREATED:20221230T140130Z
LAST-MODIFIED:20221230T140130Z
UID:17204-1825666200-1825671600@tampabayhmpc.org
SUMMARY:Pasco County HMPC Meeting
DESCRIPTION:
URL:https://tampabayhmpc.org/event/pasco-county-hmpc-meeting-2024-01-08/2027-11-08/
CATEGORIES:Events Calendar,Pasco
END:VEVENT
BEGIN:VEVENT
DTSTART;TZID=America/New_York:20271108T093000
DTEND;TZID=America/New_York:20271108T110000
DTSTAMP:20260423T164604
CREATED:20250904T183458Z
LAST-MODIFIED:20250904T183458Z
UID:17206-1825666200-1825671600@tampabayhmpc.org
SUMMARY:Pasco County HMPC Meeting
DESCRIPTION:
URL:https://tampabayhmpc.org/event/polk-county-hmpc-meeting/2027-11-08/
CATEGORIES:Events Calendar,Pasco
END:VEVENT
BEGIN:VEVENT
DTSTART;TZID=America/New_York:20271110T130000
DTEND;TZID=America/New_York:20271110T143000
DTSTAMP:20260423T164604
CREATED:20241205T162136Z
LAST-MODIFIED:20241205T162136Z
UID:17207-1825851600-1825857000@tampabayhmpc.org
SUMMARY:Manatee CHAMP Meeting
DESCRIPTION:
URL:https://tampabayhmpc.org/event/manatee-champ-meeting-15/2027-11-10/
CATEGORIES:Events Calendar,Manatee
END:VEVENT
BEGIN:VEVENT
DTSTART;TZID=America/New_York:20271116T100000
DTEND;TZID=America/New_York:20271116T113000
DTSTAMP:20260423T164604
CREATED:20151016T115131Z
LAST-MODIFIED:20260413T135145Z
UID:17220-1826359200-1826364600@tampabayhmpc.org
SUMMARY:Hillsborough County Health Care Coalition Meeting
DESCRIPTION:
URL:https://tampabayhmpc.org/event/hillsborough-county-healthcare-coalition-meeting-2025-01-16/2027-11-16/
LOCATION:Hillsborough County EOC\, 9450 E. Columbus Drive\, Tampa\, FL\, 33619\, United States
CATEGORIES:Events Calendar,Hillsborough
GEO:27.9677989;-82.3436723
X-APPLE-STRUCTURED-LOCATION;VALUE=URI;X-ADDRESS=Hillsborough County EOC 9450 E. Columbus Drive Tampa FL 33619 United States;X-APPLE-RADIUS=500;X-TITLE=9450 E. Columbus Drive:geo:-82.3436723,27.9677989
END:VEVENT
BEGIN:VEVENT
DTSTART;TZID=America/New_York:20271118T100000
DTEND;TZID=America/New_York:20271118T113000
DTSTAMP:20260423T164604
CREATED:20151016T115131Z
LAST-MODIFIED:20151016T115131Z
UID:17229-1826532000-1826537400@tampabayhmpc.org
SUMMARY:Hillsborough County Health Care Coalition Meeting
DESCRIPTION:
URL:https://tampabayhmpc.org/event/hillsborough-county-healthcare-coalition-meeting/2027-11-18/
LOCATION:TGH People Development Institute\, 39 Columbia Dr\, Tampa\, FL\, 33606\, United States
CATEGORIES:Events Calendar,Hillsborough
GEO:27.9677989;-82.3436723
X-APPLE-STRUCTURED-LOCATION;VALUE=URI;X-ADDRESS=TGH People Development Institute 39 Columbia Dr Tampa FL 33606 United States;X-APPLE-RADIUS=500;X-TITLE=39 Columbia Dr:geo:-82.3436723,27.9677989
END:VEVENT
BEGIN:VEVENT
DTSTART;TZID=America/New_York:20271124T110000
DTEND;TZID=America/New_York:20271124T120000
DTSTAMP:20260423T164604
CREATED:20230103T155239Z
LAST-MODIFIED:20260413T140137Z
UID:17230-1827054000-1827057600@tampabayhmpc.org
SUMMARY:Citrus County ESF-8 WG Meeting
DESCRIPTION:
URL:https://tampabayhmpc.org/event/citrus-county-esf-8-wg-meeting-4-2024-01-31/2027-11-24/
CATEGORIES:Citrus,Events Calendar
END:VEVENT
BEGIN:VEVENT
DTSTART;TZID=America/New_York:20271125T140000
DTEND;TZID=America/New_York:20271125T153000
DTSTAMP:20260423T164604
CREATED:20231222T143720Z
LAST-MODIFIED:20231222T143720Z
UID:17231-1827151200-1827156600@tampabayhmpc.org
SUMMARY:Polk County Health Care Coalition Meeting
DESCRIPTION:
URL:https://tampabayhmpc.org/event/polk-county-health-care-coalition-meeting-4/2027-11-25/
CATEGORIES:Events Calendar,Polk
END:VEVENT
BEGIN:VEVENT
DTSTART;TZID=America/New_York:20271203T093000
DTEND;TZID=America/New_York:20271203T110000
DTSTAMP:20260423T164604
CREATED:20231218T163447Z
LAST-MODIFIED:20231218T163447Z
UID:17256-1827826200-1827831600@tampabayhmpc.org
SUMMARY:Pinellas CHAMP Meeting
DESCRIPTION:
URL:https://tampabayhmpc.org/event/pinellas-champ-meeting-5/2027-12-03/
LOCATION:John Hopkins All Children’s Hospital\, 600 5th Street South\, St. Petersburg\, FL\, 33701\, United States
CATEGORIES:Events Calendar,Pinellas
GEO:27.7639995;-82.6397272
X-APPLE-STRUCTURED-LOCATION;VALUE=URI;X-ADDRESS=John Hopkins All Children’s Hospital 600 5th Street South St. Petersburg FL 33701 United States;X-APPLE-RADIUS=500;X-TITLE=600 5th Street South:geo:-82.6397272,27.7639995
END:VEVENT
BEGIN:VEVENT
DTSTART;TZID=America/New_York:20271208T090000
DTEND;TZID=America/New_York:20271208T100000
DTSTAMP:20260423T164604
CREATED:20241205T162249Z
LAST-MODIFIED:20260413T135749Z
UID:17257-1828256400-1828260000@tampabayhmpc.org
SUMMARY:Hardee County Health Care Coalition
DESCRIPTION:
URL:https://tampabayhmpc.org/event/hardee-county-health-care-coalition/2027-12-08/
CATEGORIES:Events Calendar,Hardee
END:VEVENT
BEGIN:VEVENT
DTSTART;TZID=America/New_York:20271209T130000
DTEND;TZID=America/New_York:20271209T140000
DTSTAMP:20260423T164604
CREATED:20231222T144056Z
LAST-MODIFIED:20260413T135826Z
UID:17284-1828357200-1828360800@tampabayhmpc.org
SUMMARY:Hernando County ESF-8 WG Meeting
DESCRIPTION:
URL:https://tampabayhmpc.org/event/hernando-county-esf-8-wg-meeting-2/2027-12-09/
CATEGORIES:Events Calendar,Hernando
END:VEVENT
BEGIN:VEVENT
DTSTART;TZID=America/New_York:20271216T110000
DTEND;TZID=America/New_York:20271216T120000
DTSTAMP:20260423T164604
CREATED:20231222T143945Z
LAST-MODIFIED:20231222T143945Z
UID:17289-1828954800-1828958400@tampabayhmpc.org
SUMMARY:Sumter County ESF-8 WG Meeting
DESCRIPTION:
URL:https://tampabayhmpc.org/event/sumter-county-esf-8-wg-meeting-5/2027-12-16/
CATEGORIES:Events Calendar,Sumter
END:VEVENT
BEGIN:VEVENT
DTSTART;TZID=America/New_York:20280110T093000
DTEND;TZID=America/New_York:20280110T110000
DTSTAMP:20260423T164604
CREATED:20221230T140130Z
LAST-MODIFIED:20221230T140130Z
UID:17320-1831109400-1831114800@tampabayhmpc.org
SUMMARY:Pasco County HMPC Meeting
DESCRIPTION:
URL:https://tampabayhmpc.org/event/pasco-county-hmpc-meeting-2024-01-08/2028-01-10/
CATEGORIES:Events Calendar,Pasco
END:VEVENT
BEGIN:VEVENT
DTSTART;TZID=America/New_York:20280110T093000
DTEND;TZID=America/New_York:20280110T110000
DTSTAMP:20260423T164604
CREATED:20250904T183458Z
LAST-MODIFIED:20250904T183458Z
UID:17321-1831109400-1831114800@tampabayhmpc.org
SUMMARY:Pasco County HMPC Meeting
DESCRIPTION:
URL:https://tampabayhmpc.org/event/polk-county-hmpc-meeting/2028-01-10/
CATEGORIES:Events Calendar,Pasco
END:VEVENT
BEGIN:VEVENT
DTSTART;TZID=America/New_York:20280112T130000
DTEND;TZID=America/New_York:20280112T143000
DTSTAMP:20260423T164604
CREATED:20241205T162136Z
LAST-MODIFIED:20241205T162136Z
UID:17322-1831294800-1831300200@tampabayhmpc.org
SUMMARY:Manatee CHAMP Meeting
DESCRIPTION:
URL:https://tampabayhmpc.org/event/manatee-champ-meeting-15/2028-01-12/
CATEGORIES:Events Calendar,Manatee
END:VEVENT
BEGIN:VEVENT
DTSTART;TZID=America/New_York:20280118T100000
DTEND;TZID=America/New_York:20280118T113000
DTSTAMP:20260423T164604
CREATED:20151016T115131Z
LAST-MODIFIED:20260413T135200Z
UID:17352-1831802400-1831807800@tampabayhmpc.org
SUMMARY:Hillsborough County Health Care Coalition Meeting
DESCRIPTION:
URL:https://tampabayhmpc.org/event/hillsborough-county-healthcare-coalition-meeting-2025-01-16/2028-01-18/
LOCATION:Hillsborough County EOC\, 9450 E. Columbus Drive\, Tampa\, FL\, 33619\, United States
CATEGORIES:Events Calendar,Hillsborough
GEO:27.9677989;-82.3436723
X-APPLE-STRUCTURED-LOCATION;VALUE=URI;X-ADDRESS=Hillsborough County EOC 9450 E. Columbus Drive Tampa FL 33619 United States;X-APPLE-RADIUS=500;X-TITLE=9450 E. Columbus Drive:geo:-82.3436723,27.9677989
END:VEVENT
BEGIN:VEVENT
DTSTART;TZID=America/New_York:20280120T100000
DTEND;TZID=America/New_York:20280120T113000
DTSTAMP:20260423T164604
CREATED:20151016T115131Z
LAST-MODIFIED:20151016T115131Z
UID:17379-1831975200-1831980600@tampabayhmpc.org
SUMMARY:Hillsborough County Health Care Coalition Meeting
DESCRIPTION:
URL:https://tampabayhmpc.org/event/hillsborough-county-healthcare-coalition-meeting/2028-01-20/
LOCATION:TGH People Development Institute\, 39 Columbia Dr\, Tampa\, FL\, 33606\, United States
CATEGORIES:Events Calendar,Hillsborough
GEO:27.9677989;-82.3436723
X-APPLE-STRUCTURED-LOCATION;VALUE=URI;X-ADDRESS=TGH People Development Institute 39 Columbia Dr Tampa FL 33606 United States;X-APPLE-RADIUS=500;X-TITLE=39 Columbia Dr:geo:-82.3436723,27.9677989
END:VEVENT
BEGIN:VEVENT
DTSTART;TZID=America/New_York:20280126T110000
DTEND;TZID=America/New_York:20280126T120000
DTSTAMP:20260423T164604
CREATED:20230103T155239Z
LAST-MODIFIED:20260413T140144Z
UID:17384-1832497200-1832500800@tampabayhmpc.org
SUMMARY:Citrus County ESF-8 WG Meeting
DESCRIPTION:
URL:https://tampabayhmpc.org/event/citrus-county-esf-8-wg-meeting-4-2024-01-31/2028-01-26/
CATEGORIES:Citrus,Events Calendar
END:VEVENT
BEGIN:VEVENT
DTSTART;TZID=America/New_York:20280127T140000
DTEND;TZID=America/New_York:20280127T153000
DTSTAMP:20260423T164604
CREATED:20231222T143720Z
LAST-MODIFIED:20231222T143720Z
UID:17385-1832594400-1832599800@tampabayhmpc.org
SUMMARY:Polk County Health Care Coalition Meeting
DESCRIPTION:
URL:https://tampabayhmpc.org/event/polk-county-health-care-coalition-meeting-4/2028-01-27/
CATEGORIES:Events Calendar,Polk
END:VEVENT
BEGIN:VEVENT
DTSTART;TZID=America/New_York:20280204T093000
DTEND;TZID=America/New_York:20280204T110000
DTSTAMP:20260423T164604
CREATED:20231218T163447Z
LAST-MODIFIED:20231218T163447Z
UID:17400-1833269400-1833274800@tampabayhmpc.org
SUMMARY:Pinellas CHAMP Meeting
DESCRIPTION:
URL:https://tampabayhmpc.org/event/pinellas-champ-meeting-5/2028-02-04/
LOCATION:John Hopkins All Children’s Hospital\, 600 5th Street South\, St. Petersburg\, FL\, 33701\, United States
CATEGORIES:Events Calendar,Pinellas
GEO:27.7639995;-82.6397272
X-APPLE-STRUCTURED-LOCATION;VALUE=URI;X-ADDRESS=John Hopkins All Children’s Hospital 600 5th Street South St. Petersburg FL 33701 United States;X-APPLE-RADIUS=500;X-TITLE=600 5th Street South:geo:-82.6397272,27.7639995
END:VEVENT
BEGIN:VEVENT
DTSTART;TZID=America/New_York:20280209T090000
DTEND;TZID=America/New_York:20280209T100000
DTSTAMP:20260423T164604
CREATED:20241205T162249Z
LAST-MODIFIED:20260413T135753Z
UID:17404-1833699600-1833703200@tampabayhmpc.org
SUMMARY:Hardee County Health Care Coalition
DESCRIPTION:
URL:https://tampabayhmpc.org/event/hardee-county-health-care-coalition/2028-02-09/
CATEGORIES:Events Calendar,Hardee
END:VEVENT
BEGIN:VEVENT
DTSTART;TZID=America/New_York:20280210T130000
DTEND;TZID=America/New_York:20280210T140000
DTSTAMP:20260423T164604
CREATED:20231222T144056Z
LAST-MODIFIED:20260413T135832Z
UID:17406-1833800400-1833804000@tampabayhmpc.org
SUMMARY:Hernando County ESF-8 WG Meeting
DESCRIPTION:
URL:https://tampabayhmpc.org/event/hernando-county-esf-8-wg-meeting-2/2028-02-10/
CATEGORIES:Events Calendar,Hernando
END:VEVENT
BEGIN:VEVENT
DTSTART;TZID=America/New_York:20280217T110000
DTEND;TZID=America/New_York:20280217T120000
DTSTAMP:20260423T164604
CREATED:20231222T143945Z
LAST-MODIFIED:20231222T143945Z
UID:17412-1834398000-1834401600@tampabayhmpc.org
SUMMARY:Sumter County ESF-8 WG Meeting
DESCRIPTION:
URL:https://tampabayhmpc.org/event/sumter-county-esf-8-wg-meeting-5/2028-02-17/
CATEGORIES:Events Calendar,Sumter
END:VEVENT
BEGIN:VEVENT
DTSTART;TZID=America/New_York:20280308T130000
DTEND;TZID=America/New_York:20280308T143000
DTSTAMP:20260423T164604
CREATED:20241205T162136Z
LAST-MODIFIED:20241205T162136Z
UID:17452-1836133200-1836138600@tampabayhmpc.org
SUMMARY:Manatee CHAMP Meeting
DESCRIPTION:
URL:https://tampabayhmpc.org/event/manatee-champ-meeting-15/2028-03-08/
CATEGORIES:Events Calendar,Manatee
END:VEVENT
BEGIN:VEVENT
DTSTART;TZID=America/New_York:20280313T093000
DTEND;TZID=America/New_York:20280313T110000
DTSTAMP:20260423T164604
CREATED:20221230T140130Z
LAST-MODIFIED:20221230T140130Z
UID:17469-1836552600-1836558000@tampabayhmpc.org
SUMMARY:Pasco County HMPC Meeting
DESCRIPTION:
URL:https://tampabayhmpc.org/event/pasco-county-hmpc-meeting-2024-01-08/2028-03-13/
CATEGORIES:Events Calendar,Pasco
END:VEVENT
BEGIN:VEVENT
DTSTART;TZID=America/New_York:20280313T093000
DTEND;TZID=America/New_York:20280313T110000
DTSTAMP:20260423T164604
CREATED:20250904T183458Z
LAST-MODIFIED:20250904T183458Z
UID:17470-1836552600-1836558000@tampabayhmpc.org
SUMMARY:Pasco County HMPC Meeting
DESCRIPTION:
URL:https://tampabayhmpc.org/event/polk-county-hmpc-meeting/2028-03-13/
CATEGORIES:Events Calendar,Pasco
END:VEVENT
BEGIN:VEVENT
DTSTART;TZID=America/New_York:20280316T100000
DTEND;TZID=America/New_York:20280316T113000
DTSTAMP:20260423T164605
CREATED:20151016T115131Z
LAST-MODIFIED:20151016T115131Z
UID:17476-1836813600-1836819000@tampabayhmpc.org
SUMMARY:Hillsborough County Health Care Coalition Meeting
DESCRIPTION:
URL:https://tampabayhmpc.org/event/hillsborough-county-healthcare-coalition-meeting/2028-03-16/
LOCATION:TGH People Development Institute\, 39 Columbia Dr\, Tampa\, FL\, 33606\, United States
CATEGORIES:Events Calendar,Hillsborough
GEO:27.9677989;-82.3436723
X-APPLE-STRUCTURED-LOCATION;VALUE=URI;X-ADDRESS=TGH People Development Institute 39 Columbia Dr Tampa FL 33606 United States;X-APPLE-RADIUS=500;X-TITLE=39 Columbia Dr:geo:-82.3436723,27.9677989
END:VEVENT
BEGIN:VEVENT
DTSTART;TZID=America/New_York:20280321T100000
DTEND;TZID=America/New_York:20280321T113000
DTSTAMP:20260423T164605
CREATED:20151016T115131Z
LAST-MODIFIED:20260413T135216Z
UID:17482-1837245600-1837251000@tampabayhmpc.org
SUMMARY:Hillsborough County Health Care Coalition Meeting
DESCRIPTION:
URL:https://tampabayhmpc.org/event/hillsborough-county-healthcare-coalition-meeting-2025-01-16/2028-03-21/
LOCATION:Hillsborough County EOC\, 9450 E. Columbus Drive\, Tampa\, FL\, 33619\, United States
CATEGORIES:Events Calendar,Hillsborough
GEO:27.9677989;-82.3436723
X-APPLE-STRUCTURED-LOCATION;VALUE=URI;X-ADDRESS=Hillsborough County EOC 9450 E. Columbus Drive Tampa FL 33619 United States;X-APPLE-RADIUS=500;X-TITLE=9450 E. Columbus Drive:geo:-82.3436723,27.9677989
END:VEVENT
BEGIN:VEVENT
DTSTART;TZID=America/New_York:20280323T140000
DTEND;TZID=America/New_York:20280323T153000
DTSTAMP:20260423T164605
CREATED:20231222T143720Z
LAST-MODIFIED:20231222T143720Z
UID:17511-1837432800-1837438200@tampabayhmpc.org
SUMMARY:Polk County Health Care Coalition Meeting
DESCRIPTION:
URL:https://tampabayhmpc.org/event/polk-county-health-care-coalition-meeting-4/2028-03-23/
CATEGORIES:Events Calendar,Polk
END:VEVENT
BEGIN:VEVENT
DTSTART;TZID=America/New_York:20280329T110000
DTEND;TZID=America/New_York:20280329T120000
DTSTAMP:20260423T164605
CREATED:20230103T155239Z
LAST-MODIFIED:20260413T140154Z
UID:17525-1837940400-1837944000@tampabayhmpc.org
SUMMARY:Citrus County ESF-8 WG Meeting
DESCRIPTION:
URL:https://tampabayhmpc.org/event/citrus-county-esf-8-wg-meeting-4-2024-01-31/2028-03-29/
CATEGORIES:Citrus,Events Calendar
END:VEVENT
END:VCALENDAR