BEGIN:VCALENDAR
VERSION:2.0
PRODID:-//Tampa Bay HMPC - ECPv6.15.20//NONSGML v1.0//EN
CALSCALE:GREGORIAN
METHOD:PUBLISH
X-WR-CALNAME:Tampa Bay HMPC
X-ORIGINAL-URL:https://tampabayhmpc.org
X-WR-CALDESC:Events for Tampa Bay HMPC
REFRESH-INTERVAL;VALUE=DURATION:PT1H
X-Robots-Tag:noindex
X-PUBLISHED-TTL:PT1H
BEGIN:VTIMEZONE
TZID:America/New_York
BEGIN:DAYLIGHT
TZOFFSETFROM:-0500
TZOFFSETTO:-0400
TZNAME:EDT
DTSTART:20240310T070000
END:DAYLIGHT
BEGIN:STANDARD
TZOFFSETFROM:-0400
TZOFFSETTO:-0500
TZNAME:EST
DTSTART:20241103T060000
END:STANDARD
BEGIN:DAYLIGHT
TZOFFSETFROM:-0500
TZOFFSETTO:-0400
TZNAME:EDT
DTSTART:20250309T070000
END:DAYLIGHT
BEGIN:STANDARD
TZOFFSETFROM:-0400
TZOFFSETTO:-0500
TZNAME:EST
DTSTART:20251102T060000
END:STANDARD
BEGIN:DAYLIGHT
TZOFFSETFROM:-0500
TZOFFSETTO:-0400
TZNAME:EDT
DTSTART:20260308T070000
END:DAYLIGHT
BEGIN:STANDARD
TZOFFSETFROM:-0400
TZOFFSETTO:-0500
TZNAME:EST
DTSTART:20261101T060000
END:STANDARD
END:VTIMEZONE
BEGIN:VTIMEZONE
TZID:America/New_York
BEGIN:DAYLIGHT
TZOFFSETFROM:-0500
TZOFFSETTO:-0400
TZNAME:EDT
DTSTART:20240310T070000
END:DAYLIGHT
BEGIN:STANDARD
TZOFFSETFROM:-0400
TZOFFSETTO:-0500
TZNAME:EST
DTSTART:20241103T060000
END:STANDARD
BEGIN:DAYLIGHT
TZOFFSETFROM:-0500
TZOFFSETTO:-0400
TZNAME:EDT
DTSTART:20250309T070000
END:DAYLIGHT
BEGIN:STANDARD
TZOFFSETFROM:-0400
TZOFFSETTO:-0500
TZNAME:EST
DTSTART:20251102T060000
END:STANDARD
BEGIN:DAYLIGHT
TZOFFSETFROM:-0500
TZOFFSETTO:-0400
TZNAME:EDT
DTSTART:20260308T070000
END:DAYLIGHT
BEGIN:STANDARD
TZOFFSETFROM:-0400
TZOFFSETTO:-0500
TZNAME:EST
DTSTART:20261101T060000
END:STANDARD
END:VTIMEZONE
BEGIN:VEVENT
DTSTART;TZID=America/New_York:20251104T100000
DTEND;TZID=America/New_York:20251104T170000
DTSTAMP:20260422T181823
CREATED:20251015T135405Z
LAST-MODIFIED:20251021T140120Z
UID:17123-1762250400-1762275600@tampabayhmpc.org
SUMMARY:TBHMPC Downtime Drill
DESCRIPTION:Register Here\nDowntime Defense Drill Flyer
URL:https://tampabayhmpc.org/event/tbhmpc-downtime-drill/
CATEGORIES:Citrus,Events Calendar,Hardee,Hernando,Hillsborough,Manatee,Pasco,Pinellas,Polk,Sumter
END:VEVENT
BEGIN:VEVENT
DTSTART;TZID=America/New_York:20251029T110000
DTEND;TZID=America/New_York:20251029T123000
DTSTAMP:20260422T181823
CREATED:20230103T155239Z
LAST-MODIFIED:20250825T191725Z
UID:15111-1761735600-1761741000@tampabayhmpc.org
SUMMARY:Citrus County ESF-8 WG Meeting
DESCRIPTION:
URL:https://tampabayhmpc.org/event/citrus-county-esf-8-wg-meeting-4-2024-01-31-2025-09-24/
CATEGORIES:Citrus,Events Calendar
END:VEVENT
BEGIN:VEVENT
DTSTART;TZID=America/New_York:20251022T150000
DTEND;TZID=America/New_York:20251022T160000
DTSTAMP:20260422T181823
CREATED:20251015T132524Z
LAST-MODIFIED:20251015T132524Z
UID:17107-1761145200-1761148800@tampabayhmpc.org
SUMMARY:BOLDPlanning CEMP Webinar- “Strategic Facility Planning for Emergencies and Alternate Sites”
DESCRIPTION:Join Here\n  \nBOLDplanning Webinar October 22nd
URL:https://tampabayhmpc.org/event/boldplanning-cemp-webinar-strategic-facility-planning-for-emergencies-and-alternate-sites/
CATEGORIES:Citrus,Events Calendar,Hardee,Hernando,Hillsborough,Manatee,Pasco,Pinellas,Polk,Sumter
END:VEVENT
BEGIN:VEVENT
DTSTART;TZID=America/New_York:20251016T110000
DTEND;TZID=America/New_York:20251016T120000
DTSTAMP:20260422T181823
CREATED:20231222T143945Z
LAST-MODIFIED:20260413T133730Z
UID:15338-1760612400-1760616000@tampabayhmpc.org
SUMMARY:Sumter County ESF-8 WG Meeting
DESCRIPTION:
URL:https://tampabayhmpc.org/event/sumter-county-esf-8-wg-meeting-5/2025-10-16/
CATEGORIES:Events Calendar,Sumter
END:VEVENT
BEGIN:VEVENT
DTSTART;TZID=America/New_York:20251009T130000
DTEND;TZID=America/New_York:20251009T140000
DTSTAMP:20260422T181823
CREATED:20231222T144056Z
LAST-MODIFIED:20260413T135657Z
UID:15327-1760014800-1760018400@tampabayhmpc.org
SUMMARY:Hernando County ESF-8 WG Meeting
DESCRIPTION:
URL:https://tampabayhmpc.org/event/hernando-county-esf-8-wg-meeting-2/2025-10-09/
CATEGORIES:Events Calendar,Hernando
END:VEVENT
BEGIN:VEVENT
DTSTART;TZID=America/New_York:20251008T150000
DTEND;TZID=America/New_York:20251008T160000
DTSTAMP:20260422T181823
CREATED:20251006T125124Z
LAST-MODIFIED:20251006T144043Z
UID:17072-1759935600-1759939200@tampabayhmpc.org
SUMMARY:BOLDPlanning: “How to Effectively Add Contacts for your CEMP”
DESCRIPTION:Join Here\n  \nBOLDplanning Webinar One-Pager
URL:https://tampabayhmpc.org/event/boldplanning-how-to-effectively-add-contacts-for-your-cemp/
CATEGORIES:Citrus,Events Calendar,Hardee,Hernando,Hillsborough,Manatee,Pasco,Pinellas,Polk,Sumter
END:VEVENT
BEGIN:VEVENT
DTSTART;TZID=America/New_York:20251003T093000
DTEND;TZID=America/New_York:20251003T110000
DTSTAMP:20260422T181823
CREATED:20231218T163447Z
LAST-MODIFIED:20260413T135408Z
UID:15262-1759483800-1759489200@tampabayhmpc.org
SUMMARY:Pinellas CHAMP Meeting
DESCRIPTION:
URL:https://tampabayhmpc.org/event/pinellas-champ-meeting-5/2025-10-03/
LOCATION:John Hopkins All Children’s Hospital\, 600 5th Street South\, St. Petersburg\, FL\, 33701\, United States
CATEGORIES:Events Calendar,Pinellas
GEO:27.7639995;-82.6397272
X-APPLE-STRUCTURED-LOCATION;VALUE=URI;X-ADDRESS=John Hopkins All Children’s Hospital 600 5th Street South St. Petersburg FL 33701 United States;X-APPLE-RADIUS=500;X-TITLE=600 5th Street South:geo:-82.6397272,27.7639995
END:VEVENT
BEGIN:VEVENT
DTSTART;TZID=America/New_York:20251001T090000
DTEND;TZID=America/New_York:20251001T103000
DTSTAMP:20260422T181823
CREATED:20241205T162249Z
LAST-MODIFIED:20250922T134822Z
UID:16450-1759309200-1759314600@tampabayhmpc.org
SUMMARY:Hardee County Health Care Coalition
DESCRIPTION:
URL:https://tampabayhmpc.org/event/hardee-county-health-care-coalition-2025-10-08/
CATEGORIES:Events Calendar,Hardee
END:VEVENT
BEGIN:VEVENT
DTSTART;TZID=America/New_York:20250925T140000
DTEND;TZID=America/New_York:20250925T153000
DTSTAMP:20260422T181823
CREATED:20231222T143720Z
LAST-MODIFIED:20260413T135245Z
UID:16977-1758808800-1758814200@tampabayhmpc.org
SUMMARY:Polk County Health Care Coalition Meeting
DESCRIPTION:
URL:https://tampabayhmpc.org/event/polk-county-health-care-coalition-meeting-4/2025-09-25/
CATEGORIES:Events Calendar,Polk
END:VEVENT
BEGIN:VEVENT
DTSTART;TZID=America/New_York:20250916T100000
DTEND;TZID=America/New_York:20250916T113000
DTSTAMP:20260422T181823
CREATED:20151016T115131Z
LAST-MODIFIED:20260413T134838Z
UID:16419-1758016800-1758022200@tampabayhmpc.org
SUMMARY:Hillsborough County Health Care Coalition Meeting
DESCRIPTION:
URL:https://tampabayhmpc.org/event/hillsborough-county-healthcare-coalition-meeting-2025-01-16/2025-09-16/
LOCATION:Hillsborough County EOC\, 9450 E. Columbus Drive\, Tampa\, FL\, 33619\, United States
CATEGORIES:Events Calendar,Hillsborough
GEO:27.9677989;-82.3436723
X-APPLE-STRUCTURED-LOCATION;VALUE=URI;X-ADDRESS=Hillsborough County EOC 9450 E. Columbus Drive Tampa FL 33619 United States;X-APPLE-RADIUS=500;X-TITLE=9450 E. Columbus Drive:geo:-82.3436723,27.9677989
END:VEVENT
BEGIN:VEVENT
DTSTART;TZID=America/New_York:20250910T130000
DTEND;TZID=America/New_York:20250910T143000
DTSTAMP:20260422T181823
CREATED:20241205T162136Z
LAST-MODIFIED:20260413T134659Z
UID:16959-1757509200-1757514600@tampabayhmpc.org
SUMMARY:Manatee CHAMP Meeting
DESCRIPTION:
URL:https://tampabayhmpc.org/event/manatee-champ-meeting-15/2025-09-10/
CATEGORIES:Events Calendar,Manatee
END:VEVENT
BEGIN:VEVENT
DTSTART;TZID=America/New_York:20250908T093000
DTEND;TZID=America/New_York:20250908T110000
DTSTAMP:20260422T181823
CREATED:20250904T183458Z
LAST-MODIFIED:20260413T134542Z
UID:17004-1757323800-1757329200@tampabayhmpc.org
SUMMARY:Pasco County HMPC Meeting
DESCRIPTION:
URL:https://tampabayhmpc.org/event/polk-county-hmpc-meeting/2025-09-08/
CATEGORIES:Events Calendar,Pasco
END:VEVENT
BEGIN:VEVENT
DTSTART;TZID=America/New_York:20250821T110000
DTEND;TZID=America/New_York:20250821T120000
DTSTAMP:20260422T181823
CREATED:20231222T143945Z
LAST-MODIFIED:20260413T133723Z
UID:15337-1755774000-1755777600@tampabayhmpc.org
SUMMARY:Sumter County ESF-8 WG Meeting
DESCRIPTION:
URL:https://tampabayhmpc.org/event/sumter-county-esf-8-wg-meeting-5/2025-08-21/
CATEGORIES:Events Calendar,Sumter
END:VEVENT
BEGIN:VEVENT
DTSTART;TZID=America/New_York:20250814T130000
DTEND;TZID=America/New_York:20250814T140000
DTSTAMP:20260422T181823
CREATED:20231222T144056Z
LAST-MODIFIED:20260413T135643Z
UID:15326-1755176400-1755180000@tampabayhmpc.org
SUMMARY:Hernando County ESF-8 WG Meeting
DESCRIPTION:
URL:https://tampabayhmpc.org/event/hernando-county-esf-8-wg-meeting-2/2025-08-14/
CATEGORIES:Events Calendar,Hernando
END:VEVENT
BEGIN:VEVENT
DTSTART;TZID=America/New_York:20250813T090000
DTEND;TZID=America/New_York:20250813T100000
DTSTAMP:20260422T181823
CREATED:20241205T162249Z
LAST-MODIFIED:20260413T135538Z
UID:16449-1755075600-1755079200@tampabayhmpc.org
SUMMARY:Hardee County Health Care Coalition
DESCRIPTION:
URL:https://tampabayhmpc.org/event/hardee-county-health-care-coalition/2025-08-13/
CATEGORIES:Events Calendar,Hardee
END:VEVENT
BEGIN:VEVENT
DTSTART;TZID=America/New_York:20250805T100000
DTEND;TZID=America/New_York:20250805T170000
DTSTAMP:20260422T181823
CREATED:20250707T130204Z
LAST-MODIFIED:20250707T130204Z
UID:16862-1754388000-1754413200@tampabayhmpc.org
SUMMARY:2025 Coalition Contract Challenge
DESCRIPTION:REGISTER HERE\nThis drill will kick off at 10am\, take place at your own organization\, and allow you to reach out to all companies that provide services within your emergency plans (ranging from transportation to food and fuel and more). Once those efforts are complete\, you will complete a simple survey to include your info in our Coalition-Wide Drill After Action Report.
URL:https://tampabayhmpc.org/event/2025-coalition-contract-challenge/
CATEGORIES:Citrus,Events Calendar,Hardee,Hernando,Hillsborough,Manatee,Pasco,Pinellas,Polk,Sumter
END:VEVENT
BEGIN:VEVENT
DTSTART;TZID=America/New_York:20250801T093000
DTEND;TZID=America/New_York:20250801T110000
DTSTAMP:20260422T181823
CREATED:20231218T163447Z
LAST-MODIFIED:20260413T135342Z
UID:15261-1754040600-1754046000@tampabayhmpc.org
SUMMARY:Pinellas CHAMP Meeting
DESCRIPTION:
URL:https://tampabayhmpc.org/event/pinellas-champ-meeting-5/2025-08-01/
LOCATION:John Hopkins All Children’s Hospital\, 600 5th Street South\, St. Petersburg\, FL\, 33701\, United States
CATEGORIES:Events Calendar,Pinellas
GEO:27.7639995;-82.6397272
X-APPLE-STRUCTURED-LOCATION;VALUE=URI;X-ADDRESS=John Hopkins All Children’s Hospital 600 5th Street South St. Petersburg FL 33701 United States;X-APPLE-RADIUS=500;X-TITLE=600 5th Street South:geo:-82.6397272,27.7639995
END:VEVENT
BEGIN:VEVENT
DTSTART;TZID=America/New_York:20250730T110000
DTEND;TZID=America/New_York:20250730T120000
DTSTAMP:20260422T181823
CREATED:20230103T155239Z
LAST-MODIFIED:20260413T140016Z
UID:14969-1753873200-1753876800@tampabayhmpc.org
SUMMARY:Citrus County ESF-8 WG Meeting
DESCRIPTION:
URL:https://tampabayhmpc.org/event/citrus-county-esf-8-wg-meeting-4-2024-01-31/2025-07-30/
CATEGORIES:Citrus,Events Calendar
END:VEVENT
BEGIN:VEVENT
DTSTART;TZID=America/New_York:20250724T140000
DTEND;TZID=America/New_York:20250724T153000
DTSTAMP:20260422T181824
CREATED:20231222T143720Z
LAST-MODIFIED:20260413T135236Z
UID:16976-1753365600-1753371000@tampabayhmpc.org
SUMMARY:Polk County Health Care Coalition Meeting
DESCRIPTION:
URL:https://tampabayhmpc.org/event/polk-county-health-care-coalition-meeting-4/2025-07-24/
CATEGORIES:Events Calendar,Polk
END:VEVENT
BEGIN:VEVENT
DTSTART;TZID=America/New_York:20250717T100000
DTEND;TZID=America/New_York:20250717T113000
DTSTAMP:20260422T181824
CREATED:20151016T115131Z
LAST-MODIFIED:20250701T164253Z
UID:16418-1752746400-1752751800@tampabayhmpc.org
SUMMARY:Hillsborough County Health Care Coalition Meeting
DESCRIPTION:
URL:https://tampabayhmpc.org/event/hillsborough-county-healthcare-coalition-meeting-2025-01-16-2025-07-15/
LOCATION:TGH People Development Institute\, 39 Columbia Dr\, Tampa\, FL\, 33606\, United States
CATEGORIES:Events Calendar,Hillsborough
GEO:27.9677989;-82.3436723
X-APPLE-STRUCTURED-LOCATION;VALUE=URI;X-ADDRESS=TGH People Development Institute 39 Columbia Dr Tampa FL 33606 United States;X-APPLE-RADIUS=500;X-TITLE=39 Columbia Dr:geo:-82.3436723,27.9677989
END:VEVENT
BEGIN:VEVENT
DTSTART;TZID=America/New_York:20250709T130000
DTEND;TZID=America/New_York:20250709T143000
DTSTAMP:20260422T181824
CREATED:20241205T162136Z
LAST-MODIFIED:20260413T134645Z
UID:16958-1752066000-1752071400@tampabayhmpc.org
SUMMARY:Manatee CHAMP Meeting
DESCRIPTION:
URL:https://tampabayhmpc.org/event/manatee-champ-meeting-15/2025-07-09/
CATEGORIES:Events Calendar,Manatee
END:VEVENT
BEGIN:VEVENT
DTSTART;TZID=America/New_York:20250618T130000
DTEND;TZID=America/New_York:20250618T170000
DTSTAMP:20260422T181824
CREATED:20250128T145944Z
LAST-MODIFIED:20250128T145944Z
UID:16529-1750251600-1750266000@tampabayhmpc.org
SUMMARY:Comprehensive Emergency Management Plan (CEMP) Development Workshop
DESCRIPTION:Register Here
URL:https://tampabayhmpc.org/event/comprehensive-emergency-management-plan-cemp-development-workshop-6/
CATEGORIES:Citrus,Events Calendar,Hardee,Hernando,Hillsborough,Manatee,Pasco,Pinellas,Polk,Sumter
END:VEVENT
BEGIN:VEVENT
DTSTART;TZID=America/New_York:20250618T080000
DTEND;TZID=America/New_York:20250618T170000
DTSTAMP:20260422T181824
CREATED:20250519T134450Z
LAST-MODIFIED:20250519T134450Z
UID:16764-1750233600-1750266000@tampabayhmpc.org
SUMMARY:Effective Strategies for Communicating with People Who are Deaf and Hard of Hearing and Others with Access and Functional Needs
DESCRIPTION:REGISTER HERE
URL:https://tampabayhmpc.org/event/effective-strategies-for-communicating-with-people-who-are-deaf-and-hard-of-hearing-and-others-with-access-and-functional-needs/2025-06-18/
LOCATION:Pinellas County Sheriff’s Office-mRoom 180-180A\, 10750 Ulmerton Rd.\, Largo\, 33778
CATEGORIES:Citrus,Events Calendar,Hardee,Hernando,Hillsborough,Manatee,Pasco,Pinellas,Polk,Sumter
GEO:27.8934442;-82.7902742
X-APPLE-STRUCTURED-LOCATION;VALUE=URI;X-ADDRESS=Pinellas County Sheriff’s Office-mRoom 180-180A 10750 Ulmerton Rd. Largo 33778;X-APPLE-RADIUS=500;X-TITLE=10750 Ulmerton Rd.:geo:-82.7902742,27.8934442
END:VEVENT
BEGIN:VEVENT
DTSTART;TZID=America/New_York:20250617T080000
DTEND;TZID=America/New_York:20250617T170000
DTSTAMP:20260422T181824
CREATED:20250519T134450Z
LAST-MODIFIED:20250519T134450Z
UID:16755-1750147200-1750179600@tampabayhmpc.org
SUMMARY:Effective Strategies for Communicating with People Who are Deaf and Hard of Hearing and Others with Access and Functional Needs
DESCRIPTION:REGISTER HERE
URL:https://tampabayhmpc.org/event/effective-strategies-for-communicating-with-people-who-are-deaf-and-hard-of-hearing-and-others-with-access-and-functional-needs/2025-06-17/
LOCATION:Pinellas County Sheriff’s Office-mRoom 180-180A\, 10750 Ulmerton Rd.\, Largo\, 33778
CATEGORIES:Citrus,Events Calendar,Hardee,Hernando,Hillsborough,Manatee,Pasco,Pinellas,Polk,Sumter
GEO:27.8934442;-82.7902742
X-APPLE-STRUCTURED-LOCATION;VALUE=URI;X-ADDRESS=Pinellas County Sheriff’s Office-mRoom 180-180A 10750 Ulmerton Rd. Largo 33778;X-APPLE-RADIUS=500;X-TITLE=10750 Ulmerton Rd.:geo:-82.7902742,27.8934442
END:VEVENT
BEGIN:VEVENT
DTSTART;TZID=America/New_York:20250612T130000
DTEND;TZID=America/New_York:20250612T140000
DTSTAMP:20260422T181824
CREATED:20231222T144056Z
LAST-MODIFIED:20260413T135623Z
UID:15325-1749733200-1749736800@tampabayhmpc.org
SUMMARY:Hernando County ESF-8 WG Meeting
DESCRIPTION:
URL:https://tampabayhmpc.org/event/hernando-county-esf-8-wg-meeting-2/2025-06-12/
CATEGORIES:Events Calendar,Hernando
END:VEVENT
BEGIN:VEVENT
DTSTART;TZID=America/New_York:20250611T090000
DTEND;TZID=America/New_York:20250611T100000
DTSTAMP:20260422T181824
CREATED:20241205T162249Z
LAST-MODIFIED:20260413T135530Z
UID:16448-1749632400-1749636000@tampabayhmpc.org
SUMMARY:Hardee County Health Care Coalition
DESCRIPTION:
URL:https://tampabayhmpc.org/event/hardee-county-health-care-coalition/2025-06-11/
CATEGORIES:Events Calendar,Hardee
END:VEVENT
BEGIN:VEVENT
DTSTART;TZID=America/New_York:20250606T093000
DTEND;TZID=America/New_York:20250606T110000
DTSTAMP:20260422T181824
CREATED:20231218T163447Z
LAST-MODIFIED:20260413T135339Z
UID:15260-1749202200-1749207600@tampabayhmpc.org
SUMMARY:Pinellas CHAMP Meeting
DESCRIPTION:
URL:https://tampabayhmpc.org/event/pinellas-champ-meeting-5/2025-06-06/
LOCATION:John Hopkins All Children’s Hospital\, 600 5th Street South\, St. Petersburg\, FL\, 33701\, United States
CATEGORIES:Events Calendar,Pinellas
GEO:27.7639995;-82.6397272
X-APPLE-STRUCTURED-LOCATION;VALUE=URI;X-ADDRESS=John Hopkins All Children’s Hospital 600 5th Street South St. Petersburg FL 33701 United States;X-APPLE-RADIUS=500;X-TITLE=600 5th Street South:geo:-82.6397272,27.7639995
END:VEVENT
BEGIN:VEVENT
DTSTART;TZID=America/New_York:20250605T080000
DTEND;TZID=America/New_York:20250605T170000
DTSTAMP:20260422T181824
CREATED:20250320T185405Z
LAST-MODIFIED:20250320T185405Z
UID:16654-1749110400-1749142800@tampabayhmpc.org
SUMMARY:2025 Hazards & Healthcare Conference- Strength in Adversity: Lessons for Healthcare Preparedness
DESCRIPTION:
URL:https://tampabayhmpc.org/event/2025-hazards-healthcare-conference-strength-in-adversity-lessons-for-healthcare-preparedness/2025-06-05/
LOCATION:Saddlebrook Resort Tampa\, 5700 Saddlebrook Way\, Wesley Chapel\, 33543
CATEGORIES:Citrus,Events Calendar,Hardee,Hernando,Hillsborough,Manatee,Pasco,Pinellas,Polk,Sumter
GEO:28.2375529;-82.3340513
X-APPLE-STRUCTURED-LOCATION;VALUE=URI;X-ADDRESS=Saddlebrook Resort Tampa 5700 Saddlebrook Way Wesley Chapel 33543;X-APPLE-RADIUS=500;X-TITLE=5700 Saddlebrook Way:geo:-82.3340513,28.2375529
END:VEVENT
BEGIN:VEVENT
DTSTART;TZID=America/New_York:20250604T080000
DTEND;TZID=America/New_York:20250604T170000
DTSTAMP:20260422T181824
CREATED:20250320T185405Z
LAST-MODIFIED:20250320T185405Z
UID:16651-1749024000-1749056400@tampabayhmpc.org
SUMMARY:2025 Hazards & Healthcare Conference- Strength in Adversity: Lessons for Healthcare Preparedness
DESCRIPTION:
URL:https://tampabayhmpc.org/event/2025-hazards-healthcare-conference-strength-in-adversity-lessons-for-healthcare-preparedness/2025-06-04/
LOCATION:Saddlebrook Resort Tampa\, 5700 Saddlebrook Way\, Wesley Chapel\, 33543
CATEGORIES:Citrus,Events Calendar,Hardee,Hernando,Hillsborough,Manatee,Pasco,Pinellas,Polk,Sumter
GEO:28.2375529;-82.3340513
X-APPLE-STRUCTURED-LOCATION;VALUE=URI;X-ADDRESS=Saddlebrook Resort Tampa 5700 Saddlebrook Way Wesley Chapel 33543;X-APPLE-RADIUS=500;X-TITLE=5700 Saddlebrook Way:geo:-82.3340513,28.2375529
END:VEVENT
BEGIN:VEVENT
DTSTART;TZID=America/New_York:20250603T080000
DTEND;TZID=America/New_York:20250603T170000
DTSTAMP:20260422T181824
CREATED:20250527T131613Z
LAST-MODIFIED:20250527T131613Z
UID:16771-1748937600-1748970000@tampabayhmpc.org
SUMMARY:2025 Operation Power Play
DESCRIPTION:REGISTER HERE\n2025 Operation Power Play
URL:https://tampabayhmpc.org/event/2025-operation-power-play/
CATEGORIES:Citrus,Events Calendar,Hardee,Hernando,Manatee,Pasco,Pinellas,Polk,Sumter
END:VEVENT
END:VCALENDAR