BEGIN:VCALENDAR
VERSION:2.0
PRODID:-//Tampa Bay HMPC - ECPv6.15.20//NONSGML v1.0//EN
CALSCALE:GREGORIAN
METHOD:PUBLISH
X-WR-CALNAME:Tampa Bay HMPC
X-ORIGINAL-URL:https://tampabayhmpc.org
X-WR-CALDESC:Events for Tampa Bay HMPC
REFRESH-INTERVAL;VALUE=DURATION:PT1H
X-Robots-Tag:noindex
X-PUBLISHED-TTL:PT1H
BEGIN:VTIMEZONE
TZID:America/New_York
BEGIN:DAYLIGHT
TZOFFSETFROM:-0500
TZOFFSETTO:-0400
TZNAME:EDT
DTSTART:20240310T070000
END:DAYLIGHT
BEGIN:STANDARD
TZOFFSETFROM:-0400
TZOFFSETTO:-0500
TZNAME:EST
DTSTART:20241103T060000
END:STANDARD
BEGIN:DAYLIGHT
TZOFFSETFROM:-0500
TZOFFSETTO:-0400
TZNAME:EDT
DTSTART:20250309T070000
END:DAYLIGHT
BEGIN:STANDARD
TZOFFSETFROM:-0400
TZOFFSETTO:-0500
TZNAME:EST
DTSTART:20251102T060000
END:STANDARD
BEGIN:DAYLIGHT
TZOFFSETFROM:-0500
TZOFFSETTO:-0400
TZNAME:EDT
DTSTART:20260308T070000
END:DAYLIGHT
BEGIN:STANDARD
TZOFFSETFROM:-0400
TZOFFSETTO:-0500
TZNAME:EST
DTSTART:20261101T060000
END:STANDARD
END:VTIMEZONE
BEGIN:VTIMEZONE
TZID:America/New_York
BEGIN:DAYLIGHT
TZOFFSETFROM:-0500
TZOFFSETTO:-0400
TZNAME:EDT
DTSTART:20240310T070000
END:DAYLIGHT
BEGIN:STANDARD
TZOFFSETFROM:-0400
TZOFFSETTO:-0500
TZNAME:EST
DTSTART:20241103T060000
END:STANDARD
BEGIN:DAYLIGHT
TZOFFSETFROM:-0500
TZOFFSETTO:-0400
TZNAME:EDT
DTSTART:20250309T070000
END:DAYLIGHT
BEGIN:STANDARD
TZOFFSETFROM:-0400
TZOFFSETTO:-0500
TZNAME:EST
DTSTART:20251102T060000
END:STANDARD
BEGIN:DAYLIGHT
TZOFFSETFROM:-0500
TZOFFSETTO:-0400
TZNAME:EDT
DTSTART:20260308T070000
END:DAYLIGHT
BEGIN:STANDARD
TZOFFSETFROM:-0400
TZOFFSETTO:-0500
TZNAME:EST
DTSTART:20261101T060000
END:STANDARD
END:VTIMEZONE
BEGIN:VEVENT
DTSTART;TZID=America/New_York:20250409T090000
DTEND;TZID=America/New_York:20250409T100000
DTSTAMP:20260423T060519
CREATED:20241205T162249Z
LAST-MODIFIED:20260413T135517Z
UID:16447-1744189200-1744192800@tampabayhmpc.org
SUMMARY:Hardee County Health Care Coalition
DESCRIPTION:
URL:https://tampabayhmpc.org/event/hardee-county-health-care-coalition/2025-04-09/
CATEGORIES:Events Calendar,Hardee
END:VEVENT
BEGIN:VEVENT
DTSTART;TZID=America/New_York:20250404T093000
DTEND;TZID=America/New_York:20250404T110000
DTSTAMP:20260423T060519
CREATED:20231218T163447Z
LAST-MODIFIED:20260413T135327Z
UID:15259-1743759000-1743764400@tampabayhmpc.org
SUMMARY:Pinellas CHAMP Meeting
DESCRIPTION:
URL:https://tampabayhmpc.org/event/pinellas-champ-meeting-5/2025-04-04/
LOCATION:John Hopkins All Children’s Hospital\, 600 5th Street South\, St. Petersburg\, FL\, 33701\, United States
CATEGORIES:Events Calendar,Pinellas
GEO:27.7639995;-82.6397272
X-APPLE-STRUCTURED-LOCATION;VALUE=URI;X-ADDRESS=John Hopkins All Children’s Hospital 600 5th Street South St. Petersburg FL 33701 United States;X-APPLE-RADIUS=500;X-TITLE=600 5th Street South:geo:-82.6397272,27.7639995
END:VEVENT
BEGIN:VEVENT
DTSTART;TZID=America/New_York:20250327T140000
DTEND;TZID=America/New_York:20250327T153000
DTSTAMP:20260423T060519
CREATED:20231222T143720Z
LAST-MODIFIED:20260413T135159Z
UID:16974-1743084000-1743089400@tampabayhmpc.org
SUMMARY:Polk County Health Care Coalition Meeting
DESCRIPTION:
URL:https://tampabayhmpc.org/event/polk-county-health-care-coalition-meeting-4/2025-03-27/
CATEGORIES:Events Calendar,Polk
END:VEVENT
BEGIN:VEVENT
DTSTART;TZID=America/New_York:20250327T080000
DTEND;TZID=America/New_York:20250327T170000
DTSTAMP:20260423T060519
CREATED:20250130T173824Z
LAST-MODIFIED:20250130T174114Z
UID:16547-1743062400-1743094800@tampabayhmpc.org
SUMMARY:BayCare Hospital Emergency Response Team (HERT) Training
DESCRIPTION:HERT Flyer 2025 (1)
URL:https://tampabayhmpc.org/event/baycare-hospital-emergency-response-team-hert-training/2025-03-27/
END:VEVENT
BEGIN:VEVENT
DTSTART;TZID=America/New_York:20250326T110000
DTEND;TZID=America/New_York:20250326T120000
DTSTAMP:20260423T060519
CREATED:20230103T155239Z
LAST-MODIFIED:20260413T135921Z
UID:14745-1742986800-1742990400@tampabayhmpc.org
SUMMARY:Citrus County ESF-8 WG Meeting
DESCRIPTION:
URL:https://tampabayhmpc.org/event/citrus-county-esf-8-wg-meeting-4-2024-01-31/2025-03-26/
CATEGORIES:Citrus,Events Calendar
END:VEVENT
BEGIN:VEVENT
DTSTART;TZID=America/New_York:20250325T100000
DTEND;TZID=America/New_York:20250325T110000
DTSTAMP:20260423T060519
CREATED:20250304T180357Z
LAST-MODIFIED:20250304T180357Z
UID:16636-1742896800-1742900400@tampabayhmpc.org
SUMMARY:TBHMPC Long Term Care Preparedness Series—Workplace Violence
DESCRIPTION:REGISTER HERE\nLTC Workplace Violence March Webinar Flyer
URL:https://tampabayhmpc.org/event/tbhmpc-long-term-care-preparedness-series-workplace-violence-2/
CATEGORIES:Citrus,Events Calendar,Hardee,Hernando,Hillsborough,Manatee,Pasco,Pinellas,Polk,Sumter
END:VEVENT
BEGIN:VEVENT
DTSTART;TZID=America/New_York:20250324T130000
DTEND;TZID=America/New_York:20250324T170000
DTSTAMP:20260423T060519
CREATED:20250128T150345Z
LAST-MODIFIED:20250128T150345Z
UID:16531-1742821200-1742835600@tampabayhmpc.org
SUMMARY:Continuity of Operations (COOP) Plan Development Workshop
DESCRIPTION:Register Here
URL:https://tampabayhmpc.org/event/continuity-of-operations-coop-plan-development-workshop/
CATEGORIES:Citrus,Events Calendar,Hardee,Hernando,Hillsborough,Manatee,Pasco,Pinellas,Polk,Sumter
END:VEVENT
BEGIN:VEVENT
DTSTART;TZID=America/New_York:20250320T140000
DTEND;TZID=America/New_York:20250320T150000
DTSTAMP:20260423T060519
CREATED:20250304T180150Z
LAST-MODIFIED:20250304T180150Z
UID:16633-1742479200-1742482800@tampabayhmpc.org
SUMMARY:TBHMPC Long Term Care Preparedness Series—Workplace Violence
DESCRIPTION:REGISTER HERE\n  \nLTC Workplace Violence March Webinar Flyer
URL:https://tampabayhmpc.org/event/tbhmpc-long-term-care-preparedness-series-workplace-violence/
CATEGORIES:Citrus,Events Calendar,Hardee,Hernando,Hillsborough,Manatee,Pasco,Pinellas,Polk,Sumter
END:VEVENT
BEGIN:VEVENT
DTSTART;TZID=America/New_York:20250320T080000
DTEND;TZID=America/New_York:20250320T170000
DTSTAMP:20260423T060519
CREATED:20250130T173824Z
LAST-MODIFIED:20250130T174110Z
UID:16546-1742457600-1742490000@tampabayhmpc.org
SUMMARY:BayCare Hospital Emergency Response Team (HERT) Training
DESCRIPTION:HERT Flyer 2025 (1)
URL:https://tampabayhmpc.org/event/baycare-hospital-emergency-response-team-hert-training/2025-03-20/
END:VEVENT
BEGIN:VEVENT
DTSTART;TZID=America/New_York:20250318T100000
DTEND;TZID=America/New_York:20250318T113000
DTSTAMP:20260423T060519
CREATED:20151016T115131Z
LAST-MODIFIED:20260413T134759Z
UID:16416-1742292000-1742297400@tampabayhmpc.org
SUMMARY:Hillsborough County Health Care Coalition Meeting
DESCRIPTION:
URL:https://tampabayhmpc.org/event/hillsborough-county-healthcare-coalition-meeting-2025-01-16/2025-03-18/
LOCATION:Hillsborough County EOC\, 9450 E. Columbus Drive\, Tampa\, FL\, 33619\, United States
CATEGORIES:Events Calendar,Hillsborough
GEO:27.9677989;-82.3436723
X-APPLE-STRUCTURED-LOCATION;VALUE=URI;X-ADDRESS=Hillsborough County EOC 9450 E. Columbus Drive Tampa FL 33619 United States;X-APPLE-RADIUS=500;X-TITLE=9450 E. Columbus Drive:geo:-82.3436723,27.9677989
END:VEVENT
BEGIN:VEVENT
DTSTART;TZID=America/New_York:20250313T080000
DTEND;TZID=America/New_York:20250313T160000
DTSTAMP:20260423T060519
CREATED:20250224T184549Z
LAST-MODIFIED:20250224T184549Z
UID:16605-1741852800-1741881600@tampabayhmpc.org
SUMMARY:PER-370 Detecting Radiological Contamination for Hospital First Receivers Registration
DESCRIPTION:REGISTER HERE\nPER-370 Flyer HCA Oak Hill March 13th (1)
URL:https://tampabayhmpc.org/event/per-370-detecting-radiological-contamination-for-hospital-first-receivers-registration-2/
LOCATION:HCA Florida Oak Hill Hospital\, 11375 Cortez Blvd\, Brooksville\, FL\, 34613
CATEGORIES:Citrus,Events Calendar,Hardee,Hernando,Hillsborough,Manatee,Pasco,Pinellas,Polk,Sumter
GEO:28.5340899;-82.4888578
X-APPLE-STRUCTURED-LOCATION;VALUE=URI;X-ADDRESS=HCA Florida Oak Hill Hospital 11375 Cortez Blvd Brooksville FL 34613;X-APPLE-RADIUS=500;X-TITLE=11375 Cortez Blvd:geo:-82.4888578,28.5340899
END:VEVENT
BEGIN:VEVENT
DTSTART;TZID=America/New_York:20250312T130000
DTEND;TZID=America/New_York:20250312T143000
DTSTAMP:20260423T060519
CREATED:20241205T162136Z
LAST-MODIFIED:20260413T134626Z
UID:16956-1741784400-1741789800@tampabayhmpc.org
SUMMARY:Manatee CHAMP Meeting
DESCRIPTION:
URL:https://tampabayhmpc.org/event/manatee-champ-meeting-15/2025-03-12/
CATEGORIES:Events Calendar,Manatee
END:VEVENT
BEGIN:VEVENT
DTSTART;TZID=America/New_York:20250312T080000
DTEND;TZID=America/New_York:20250312T160000
DTSTAMP:20260423T060519
CREATED:20250224T184050Z
LAST-MODIFIED:20250224T184050Z
UID:16601-1741766400-1741795200@tampabayhmpc.org
SUMMARY:PER-370 Detecting Radiological Contamination for Hospital First Receivers Registration
DESCRIPTION:REGISTER HERE\nPER-370 Flyer St Joes South March 12th
URL:https://tampabayhmpc.org/event/per-370-detecting-radiological-contamination-for-hospital-first-receivers-registration/
LOCATION:St. Joseph’s Hospital South\, 6901 Simmons Loop\, Riverview\, FL\, 33578
CATEGORIES:Citrus,Events Calendar,Hardee,Hernando,Hillsborough,Manatee,Pasco,Pinellas,Polk,Sumter
GEO:27.7876884;-82.3449368
X-APPLE-STRUCTURED-LOCATION;VALUE=URI;X-ADDRESS=St. Joseph’s Hospital South 6901 Simmons Loop Riverview FL 33578;X-APPLE-RADIUS=500;X-TITLE=6901 Simmons Loop:geo:-82.3449368,27.7876884
END:VEVENT
BEGIN:VEVENT
DTSTART;TZID=America/New_York:20250311T080000
DTEND;TZID=America/New_York:20250311T160000
DTSTAMP:20260423T060519
CREATED:20250224T183725Z
LAST-MODIFIED:20250224T184724Z
UID:16598-1741680000-1741708800@tampabayhmpc.org
SUMMARY:PER-370 Detecting Radiological Contamination for Hospital First Receivers
DESCRIPTION:REGISTER HERE\nPER-370 Flyer TBHMPC March 11th
URL:https://tampabayhmpc.org/event/per-370-detecting-radiological-contamination-for-hospital-first-receivers/
LOCATION:Tampa Bay Health & Medical Preparedness\, 7300 Bryan Dairy Rd #450\, Largo\, FL\, 33777\, United States
CATEGORIES:Citrus,Events Calendar,Hardee,Hernando,Hillsborough,Manatee,Pasco,Pinellas,Polk,Sumter
GEO:27.8716024;-82.7403615
X-APPLE-STRUCTURED-LOCATION;VALUE=URI;X-ADDRESS=Tampa Bay Health & Medical Preparedness 7300 Bryan Dairy Rd #450 Largo FL 33777 United States;X-APPLE-RADIUS=500;X-TITLE=7300 Bryan Dairy Rd #450:geo:-82.7403615,27.8716024
END:VEVENT
BEGIN:VEVENT
DTSTART;TZID=America/New_York:20250305T130000
DTEND;TZID=America/New_York:20250305T170000
DTSTAMP:20260423T060519
CREATED:20250128T145158Z
LAST-MODIFIED:20250128T145158Z
UID:16523-1741179600-1741194000@tampabayhmpc.org
SUMMARY:Comprehensive Emergency Management Plan (CEMP) Development Workshop
DESCRIPTION:Register Here\n 
URL:https://tampabayhmpc.org/event/comprehensive-emergency-management-plan-cemp-development-workshop-3/
CATEGORIES:Citrus,Events Calendar,Hardee,Hernando,Hillsborough,Manatee,Pasco,Pinellas,Polk,Sumter
END:VEVENT
BEGIN:VEVENT
DTSTART;TZID=America/New_York:20250227T100000
DTEND;TZID=America/New_York:20250227T110000
DTSTAMP:20260423T060519
CREATED:20250212T180435Z
LAST-MODIFIED:20250212T180915Z
UID:16591-1740650400-1740654000@tampabayhmpc.org
SUMMARY:Emergency Preparedness & Infection Control for Long-Term Care - The Intersection of Planning
DESCRIPTION:Register Here\n \n  \nLong-term care facilities (LTCs) face unique challenges in managing emergencies while maintaining strict infection control protocols. This webinar explores the critical intersection of emergency preparedness and infection prevention\, equipping LTC leaders with practical strategies to enhance resilience\, mitigate risks\, and ensure regulatory compliance. Join us as we discuss best practices\, real-world scenarios\, and actionable steps to safeguard residents and staff during crises. \n*CEUs are offered for the following boards – FL Board of Nursing Home Administrators\, Fl Board of Nursing\, Fl Board of Occupational Therapists\, FL Board of Social Workers\, Marriage and Family Therapy and Mental Health Counseling. \n 
URL:https://tampabayhmpc.org/event/emergency-preparedness-infection-control-for-long-term-care-the-intersection-of-planning-2025-02-27/
CATEGORIES:Citrus,Events Calendar,Hardee,Hernando,Hillsborough,Manatee,Pasco,Pinellas,Polk,Sumter
END:VEVENT
BEGIN:VEVENT
DTSTART;TZID=America/New_York:20250227T080000
DTEND;TZID=America/New_York:20250227T170000
DTSTAMP:20260423T060519
CREATED:20250130T173824Z
LAST-MODIFIED:20250130T174108Z
UID:16545-1740643200-1740675600@tampabayhmpc.org
SUMMARY:BayCare Hospital Emergency Response Team (HERT) Training
DESCRIPTION:HERT Flyer 2025 (1)
URL:https://tampabayhmpc.org/event/baycare-hospital-emergency-response-team-hert-training/2025-02-27/
END:VEVENT
BEGIN:VEVENT
DTSTART;TZID=America/New_York:20250225T020000
DTEND;TZID=America/New_York:20250225T150000
DTSTAMP:20260423T060519
CREATED:20250212T180435Z
LAST-MODIFIED:20250212T180435Z
UID:16584-1740448800-1740495600@tampabayhmpc.org
SUMMARY:Emergency Preparedness & Infection Control for Long-Term Care - The Intersection of Planning
DESCRIPTION:Register Here\n \n  \nLong-term care facilities (LTCs) face unique challenges in managing emergencies while maintaining strict infection control protocols. This webinar explores the critical intersection of emergency preparedness and infection prevention\, equipping LTC leaders with practical strategies to enhance resilience\, mitigate risks\, and ensure regulatory compliance. Join us as we discuss best practices\, real-world scenarios\, and actionable steps to safeguard residents and staff during crises. \n*CEUs are offered for the following boards – FL Board of Nursing Home Administrators\, Fl Board of Nursing\, Fl Board of Occupational Therapists\, FL Board of Social Workers\, Marriage and Family Therapy and Mental Health Counseling. \n 
URL:https://tampabayhmpc.org/event/emergency-preparedness-infection-control-for-long-term-care-the-intersection-of-planning/2025-02-25/
CATEGORIES:Citrus,Events Calendar,Hardee,Hernando,Hillsborough,Manatee,Pasco,Pinellas,Polk,Sumter
END:VEVENT
BEGIN:VEVENT
DTSTART;TZID=America/New_York:20250220T110000
DTEND;TZID=America/New_York:20250220T120000
DTSTAMP:20260423T060519
CREATED:20231222T143945Z
LAST-MODIFIED:20260413T133704Z
UID:15334-1740049200-1740052800@tampabayhmpc.org
SUMMARY:Sumter County ESF-8 WG Meeting
DESCRIPTION:
URL:https://tampabayhmpc.org/event/sumter-county-esf-8-wg-meeting-5/2025-02-20/
CATEGORIES:Events Calendar,Sumter
END:VEVENT
BEGIN:VEVENT
DTSTART;TZID=America/New_York:20250219T080000
DTEND;TZID=America/New_York:20250219T170000
DTSTAMP:20260423T060519
CREATED:20250130T173824Z
LAST-MODIFIED:20250130T174101Z
UID:16543-1739952000-1739984400@tampabayhmpc.org
SUMMARY:BayCare Hospital Emergency Response Team (HERT) Training
DESCRIPTION:HERT Flyer 2025 (1)
URL:https://tampabayhmpc.org/event/baycare-hospital-emergency-response-team-hert-training/2025-02-19/
END:VEVENT
BEGIN:VEVENT
DTSTART;TZID=America/New_York:20250213T130000
DTEND;TZID=America/New_York:20250213T140000
DTSTAMP:20260423T060520
CREATED:20231222T144056Z
LAST-MODIFIED:20260413T135550Z
UID:15323-1739451600-1739455200@tampabayhmpc.org
SUMMARY:Hernando County ESF-8 WG Meeting
DESCRIPTION:
URL:https://tampabayhmpc.org/event/hernando-county-esf-8-wg-meeting-2/2025-02-13/
CATEGORIES:Events Calendar,Hernando
END:VEVENT
BEGIN:VEVENT
DTSTART;TZID=America/New_York:20250212T090000
DTEND;TZID=America/New_York:20250212T100000
DTSTAMP:20260423T060520
CREATED:20241205T162249Z
LAST-MODIFIED:20260413T135508Z
UID:16446-1739350800-1739354400@tampabayhmpc.org
SUMMARY:Hardee County Health Care Coalition
DESCRIPTION:
URL:https://tampabayhmpc.org/event/hardee-county-health-care-coalition/2025-02-12/
CATEGORIES:Events Calendar,Hardee
END:VEVENT
BEGIN:VEVENT
DTSTART;TZID=America/New_York:20250211T130000
DTEND;TZID=America/New_York:20250211T170000
DTSTAMP:20260423T060520
CREATED:20250128T144624Z
LAST-MODIFIED:20250128T144624Z
UID:16520-1739278800-1739293200@tampabayhmpc.org
SUMMARY:Comprehensive Emergency Management Plan (CEMP) Development Workshop
DESCRIPTION:Register Here
URL:https://tampabayhmpc.org/event/comprehensive-emergency-management-plan-cemp-development-workshop-2/
CATEGORIES:Citrus,Events Calendar,Hardee,Hernando,Hillsborough,Manatee,Pasco,Pinellas,Polk,Sumter
END:VEVENT
BEGIN:VEVENT
DTSTART;TZID=America/New_York:20250207T093000
DTEND;TZID=America/New_York:20250207T110000
DTSTAMP:20260423T060520
CREATED:20231218T163447Z
LAST-MODIFIED:20260413T135312Z
UID:15258-1738920600-1738926000@tampabayhmpc.org
SUMMARY:Pinellas CHAMP Meeting
DESCRIPTION:
URL:https://tampabayhmpc.org/event/pinellas-champ-meeting-5/2025-02-07/
LOCATION:John Hopkins All Children’s Hospital\, 600 5th Street South\, St. Petersburg\, FL\, 33701\, United States
CATEGORIES:Events Calendar,Pinellas
GEO:27.7639995;-82.6397272
X-APPLE-STRUCTURED-LOCATION;VALUE=URI;X-ADDRESS=John Hopkins All Children’s Hospital 600 5th Street South St. Petersburg FL 33701 United States;X-APPLE-RADIUS=500;X-TITLE=600 5th Street South:geo:-82.6397272,27.7639995
END:VEVENT
BEGIN:VEVENT
DTSTART;TZID=America/New_York:20250206T130000
DTEND;TZID=America/New_York:20250206T160000
DTSTAMP:20260423T060520
CREATED:20240903T133542Z
LAST-MODIFIED:20240903T133542Z
UID:16114-1738846800-1738857600@tampabayhmpc.org
SUMMARY:Patient Management: Management of a Highly Infectious Disease Patient in a Healthcare Facility (HIDV4)
DESCRIPTION:Register Here \nA discussion of the critical processes\, procedures\, and considerations for safely managing a highly infectious disease patient in a healthcare facility.
URL:https://tampabayhmpc.org/event/patient-management-management-of-a-highly-infectious-disease-patient-in-a-healthcare-facility-hidv4/
CATEGORIES:Citrus,Events Calendar,Hardee,Hernando,Hillsborough,Manatee,Pasco,Pinellas,Polk,Sumter
END:VEVENT
BEGIN:VEVENT
DTSTART;TZID=America/New_York:20250205T100000
DTEND;TZID=America/New_York:20250205T170000
DTSTAMP:20260423T060520
CREATED:20250113T195115Z
LAST-MODIFIED:20250113T195115Z
UID:16482-1738749600-1738774800@tampabayhmpc.org
SUMMARY:2025 TBHMPC Great Tornado Drill
DESCRIPTION:Register Here\n  \nThe 2025 TBHMPC Great Tornado Drill will take place on Wednesday\, February 5th\, 2025 at 10am. This is a community-based drill\, and all actions will take place at your individual organization/facility. You will receive a prompt on the exercise day to shelter-in-place due to a potential tornado and will play out the exercise at your facility/organization (at whatever level you wish).
URL:https://tampabayhmpc.org/event/2025-tbhmpc-great-tornado-drill/
CATEGORIES:Citrus,Events Calendar,Hardee,Hernando,Hillsborough,Manatee,Pasco,Pinellas,Polk,Sumter
END:VEVENT
BEGIN:VEVENT
DTSTART;TZID=America/New_York:20250203T080000
DTEND;TZID=America/New_York:20250203T170000
DTSTAMP:20260423T060520
CREATED:20250130T173824Z
LAST-MODIFIED:20250130T174052Z
UID:16542-1738569600-1738602000@tampabayhmpc.org
SUMMARY:BayCare Hospital Emergency Response Team (HERT) Training
DESCRIPTION:HERT Flyer 2025 (1)
URL:https://tampabayhmpc.org/event/baycare-hospital-emergency-response-team-hert-training/2025-02-03/
END:VEVENT
BEGIN:VEVENT
DTSTART;TZID=America/New_York:20250130T080000
DTEND;TZID=America/New_York:20250130T170000
DTSTAMP:20260423T060520
CREATED:20250130T173824Z
LAST-MODIFIED:20250130T174044Z
UID:16540-1738224000-1738256400@tampabayhmpc.org
SUMMARY:BayCare Hospital Emergency Response Team (HERT) Training
DESCRIPTION:HERT Flyer 2025 (1)
URL:https://tampabayhmpc.org/event/baycare-hospital-emergency-response-team-hert-training/2025-01-30/
END:VEVENT
BEGIN:VEVENT
DTSTART;TZID=America/New_York:20250129T110000
DTEND;TZID=America/New_York:20250129T120000
DTSTAMP:20260423T060520
CREATED:20230103T155239Z
LAST-MODIFIED:20260413T135917Z
UID:14636-1738148400-1738152000@tampabayhmpc.org
SUMMARY:Citrus County ESF-8 WG Meeting
DESCRIPTION:
URL:https://tampabayhmpc.org/event/citrus-county-esf-8-wg-meeting-4-2024-01-31/2025-01-29/
CATEGORIES:Citrus,Events Calendar
END:VEVENT
BEGIN:VEVENT
DTSTART;TZID=America/New_York:20250123T140000
DTEND;TZID=America/New_York:20250123T153000
DTSTAMP:20260423T060520
CREATED:20231222T143720Z
LAST-MODIFIED:20260413T135145Z
UID:16973-1737640800-1737646200@tampabayhmpc.org
SUMMARY:Polk County Health Care Coalition Meeting
DESCRIPTION:
URL:https://tampabayhmpc.org/event/polk-county-health-care-coalition-meeting-4/2025-01-23/
CATEGORIES:Events Calendar,Polk
END:VEVENT
END:VCALENDAR