BEGIN:VCALENDAR
VERSION:2.0
PRODID:-//Tampa Bay HMPC - ECPv6.15.20//NONSGML v1.0//EN
CALSCALE:GREGORIAN
METHOD:PUBLISH
X-WR-CALNAME:Tampa Bay HMPC
X-ORIGINAL-URL:https://tampabayhmpc.org
X-WR-CALDESC:Events for Tampa Bay HMPC
REFRESH-INTERVAL;VALUE=DURATION:PT1H
X-Robots-Tag:noindex
X-PUBLISHED-TTL:PT1H
BEGIN:VTIMEZONE
TZID:America/New_York
BEGIN:DAYLIGHT
TZOFFSETFROM:-0500
TZOFFSETTO:-0400
TZNAME:EDT
DTSTART:20240310T070000
END:DAYLIGHT
BEGIN:STANDARD
TZOFFSETFROM:-0400
TZOFFSETTO:-0500
TZNAME:EST
DTSTART:20241103T060000
END:STANDARD
BEGIN:DAYLIGHT
TZOFFSETFROM:-0500
TZOFFSETTO:-0400
TZNAME:EDT
DTSTART:20250309T070000
END:DAYLIGHT
BEGIN:STANDARD
TZOFFSETFROM:-0400
TZOFFSETTO:-0500
TZNAME:EST
DTSTART:20251102T060000
END:STANDARD
BEGIN:DAYLIGHT
TZOFFSETFROM:-0500
TZOFFSETTO:-0400
TZNAME:EDT
DTSTART:20260308T070000
END:DAYLIGHT
BEGIN:STANDARD
TZOFFSETFROM:-0400
TZOFFSETTO:-0500
TZNAME:EST
DTSTART:20261101T060000
END:STANDARD
END:VTIMEZONE
BEGIN:VTIMEZONE
TZID:America/New_York
BEGIN:DAYLIGHT
TZOFFSETFROM:-0500
TZOFFSETTO:-0400
TZNAME:EDT
DTSTART:20240310T070000
END:DAYLIGHT
BEGIN:STANDARD
TZOFFSETFROM:-0400
TZOFFSETTO:-0500
TZNAME:EST
DTSTART:20241103T060000
END:STANDARD
BEGIN:DAYLIGHT
TZOFFSETFROM:-0500
TZOFFSETTO:-0400
TZNAME:EDT
DTSTART:20250309T070000
END:DAYLIGHT
BEGIN:STANDARD
TZOFFSETFROM:-0400
TZOFFSETTO:-0500
TZNAME:EST
DTSTART:20251102T060000
END:STANDARD
BEGIN:DAYLIGHT
TZOFFSETFROM:-0500
TZOFFSETTO:-0400
TZNAME:EDT
DTSTART:20260308T070000
END:DAYLIGHT
BEGIN:STANDARD
TZOFFSETFROM:-0400
TZOFFSETTO:-0500
TZNAME:EST
DTSTART:20261101T060000
END:STANDARD
END:VTIMEZONE
BEGIN:VEVENT
DTSTART;TZID=America/New_York:20250508T130000
DTEND;TZID=America/New_York:20250508T170000
DTSTAMP:20260423T143454
CREATED:20250128T150555Z
LAST-MODIFIED:20250128T150555Z
UID:16534-1746709200-1746723600@tampabayhmpc.org
SUMMARY:Continuity of Operations (COOP) Plan Development Workshop
DESCRIPTION:Register Here
URL:https://tampabayhmpc.org/event/continuity-of-operations-coop-plan-development-workshop-2/
CATEGORIES:Citrus,Events Calendar,Hardee,Hernando,Hillsborough,Manatee,Pasco,Pinellas,Polk,Sumter
END:VEVENT
BEGIN:VEVENT
DTSTART;TZID=America/New_York:20250514T130000
DTEND;TZID=America/New_York:20250514T143000
DTSTAMP:20260423T143454
CREATED:20241205T162136Z
LAST-MODIFIED:20260413T134635Z
UID:16957-1747227600-1747233000@tampabayhmpc.org
SUMMARY:Manatee CHAMP Meeting
DESCRIPTION:
URL:https://tampabayhmpc.org/event/manatee-champ-meeting-15/2025-05-14/
CATEGORIES:Events Calendar,Manatee
END:VEVENT
BEGIN:VEVENT
DTSTART;TZID=America/New_York:20250520T100000
DTEND;TZID=America/New_York:20250520T113000
DTSTAMP:20260423T143454
CREATED:20151016T115131Z
LAST-MODIFIED:20260413T134817Z
UID:16417-1747735200-1747740600@tampabayhmpc.org
SUMMARY:Hillsborough County Health Care Coalition Meeting
DESCRIPTION:
URL:https://tampabayhmpc.org/event/hillsborough-county-healthcare-coalition-meeting-2025-01-16/2025-05-20/
LOCATION:Hillsborough County EOC\, 9450 E. Columbus Drive\, Tampa\, FL\, 33619\, United States
CATEGORIES:Events Calendar,Hillsborough
GEO:27.9677989;-82.3436723
X-APPLE-STRUCTURED-LOCATION;VALUE=URI;X-ADDRESS=Hillsborough County EOC 9450 E. Columbus Drive Tampa FL 33619 United States;X-APPLE-RADIUS=500;X-TITLE=9450 E. Columbus Drive:geo:-82.3436723,27.9677989
END:VEVENT
BEGIN:VEVENT
DTSTART;TZID=America/New_York:20250520T130000
DTEND;TZID=America/New_York:20250520T170000
DTSTAMP:20260423T143454
CREATED:20250128T145807Z
LAST-MODIFIED:20250128T145807Z
UID:16527-1747746000-1747760400@tampabayhmpc.org
SUMMARY:Comprehensive Emergency Management Plan (CEMP) Development Workshop
DESCRIPTION:Register Here\n 
URL:https://tampabayhmpc.org/event/comprehensive-emergency-management-plan-cemp-development-workshop-5/
CATEGORIES:Citrus,Events Calendar,Hardee,Hernando,Hillsborough,Manatee,Pasco,Pinellas,Polk,Sumter
END:VEVENT
BEGIN:VEVENT
DTSTART;TZID=America/New_York:20250522T140000
DTEND;TZID=America/New_York:20250522T153000
DTSTAMP:20260423T143454
CREATED:20231222T143720Z
LAST-MODIFIED:20260413T135210Z
UID:16975-1747922400-1747927800@tampabayhmpc.org
SUMMARY:Polk County Health Care Coalition Meeting
DESCRIPTION:
URL:https://tampabayhmpc.org/event/polk-county-health-care-coalition-meeting-4/2025-05-22/
CATEGORIES:Events Calendar,Polk
END:VEVENT
BEGIN:VEVENT
DTSTART;TZID=America/New_York:20250528T110000
DTEND;TZID=America/New_York:20250528T120000
DTSTAMP:20260423T143454
CREATED:20230103T155239Z
LAST-MODIFIED:20260413T135954Z
UID:14885-1748430000-1748433600@tampabayhmpc.org
SUMMARY:Citrus County ESF-8 WG Meeting
DESCRIPTION:
URL:https://tampabayhmpc.org/event/citrus-county-esf-8-wg-meeting-4-2024-01-31/2025-05-28/
CATEGORIES:Citrus,Events Calendar
END:VEVENT
BEGIN:VEVENT
DTSTART;TZID=America/New_York:20250528T140000
DTEND;TZID=America/New_York:20250528T150000
DTSTAMP:20260423T143454
CREATED:20250516T163313Z
LAST-MODIFIED:20250516T163313Z
UID:16749-1748440800-1748444400@tampabayhmpc.org
SUMMARY:LTC Series: One Box Away from Breakdown: The Hidden Risk in Healthcare Preparedness
DESCRIPTION:REGISTER HERE \nSupply Chain Disruption Webinar Flyer
URL:https://tampabayhmpc.org/event/ltc-series-one-box-away-from-breakdown-the-hidden-risk-in-healthcare-preparedness/2025-05-28/
CATEGORIES:Citrus,Events Calendar,Hardee,Hernando,Hillsborough,Manatee,Pasco,Pinellas,Polk,Sumter
END:VEVENT
BEGIN:VEVENT
DTSTART;TZID=America/New_York:20250529T100000
DTEND;TZID=America/New_York:20250529T110000
DTSTAMP:20260423T143454
CREATED:20250516T163313Z
LAST-MODIFIED:20250516T163449Z
UID:16752-1748512800-1748516400@tampabayhmpc.org
SUMMARY:LTC Series: One Box Away from Breakdown: The Hidden Risk in Healthcare Preparedness
DESCRIPTION:REGISTER HERE\nSupply Chain Disruption Webinar Flyer
URL:https://tampabayhmpc.org/event/ltc-series-one-box-away-from-breakdown-the-hidden-risk-in-healthcare-preparedness-2025-05-29/
CATEGORIES:Citrus,Events Calendar,Hardee,Hernando,Hillsborough,Manatee,Pasco,Pinellas,Polk,Sumter
END:VEVENT
END:VCALENDAR