BEGIN:VCALENDAR
VERSION:2.0
PRODID:-//Tampa Bay HMPC - ECPv6.15.20//NONSGML v1.0//EN
CALSCALE:GREGORIAN
METHOD:PUBLISH
X-ORIGINAL-URL:https://tampabayhmpc.org
X-WR-CALDESC:Events for Tampa Bay HMPC
REFRESH-INTERVAL;VALUE=DURATION:PT1H
X-Robots-Tag:noindex
X-PUBLISHED-TTL:PT1H
BEGIN:VTIMEZONE
TZID:America/New_York
BEGIN:DAYLIGHT
TZOFFSETFROM:-0500
TZOFFSETTO:-0400
TZNAME:EDT
DTSTART:20240310T070000
END:DAYLIGHT
BEGIN:STANDARD
TZOFFSETFROM:-0400
TZOFFSETTO:-0500
TZNAME:EST
DTSTART:20241103T060000
END:STANDARD
BEGIN:DAYLIGHT
TZOFFSETFROM:-0500
TZOFFSETTO:-0400
TZNAME:EDT
DTSTART:20250309T070000
END:DAYLIGHT
BEGIN:STANDARD
TZOFFSETFROM:-0400
TZOFFSETTO:-0500
TZNAME:EST
DTSTART:20251102T060000
END:STANDARD
BEGIN:DAYLIGHT
TZOFFSETFROM:-0500
TZOFFSETTO:-0400
TZNAME:EDT
DTSTART:20260308T070000
END:DAYLIGHT
BEGIN:STANDARD
TZOFFSETFROM:-0400
TZOFFSETTO:-0500
TZNAME:EST
DTSTART:20261101T060000
END:STANDARD
END:VTIMEZONE
BEGIN:VEVENT
DTSTART;TZID=America/New_York:20251001T090000
DTEND;TZID=America/New_York:20251001T103000
DTSTAMP:20260422T211847
CREATED:20241205T162249Z
LAST-MODIFIED:20250922T134822Z
UID:16450-1759309200-1759314600@tampabayhmpc.org
SUMMARY:Hardee County Health Care Coalition
DESCRIPTION:
URL:https://tampabayhmpc.org/event/hardee-county-health-care-coalition-2025-10-08/
CATEGORIES:Events Calendar,Hardee
END:VEVENT
BEGIN:VEVENT
DTSTART;TZID=America/New_York:20251003T093000
DTEND;TZID=America/New_York:20251003T110000
DTSTAMP:20260422T211848
CREATED:20231218T163447Z
LAST-MODIFIED:20260413T135408Z
UID:15262-1759483800-1759489200@tampabayhmpc.org
SUMMARY:Pinellas CHAMP Meeting
DESCRIPTION:
URL:https://tampabayhmpc.org/event/pinellas-champ-meeting-5/2025-10-03/
LOCATION:John Hopkins All Children’s Hospital\, 600 5th Street South\, St. Petersburg\, FL\, 33701\, United States
CATEGORIES:Events Calendar,Pinellas
GEO:27.7639995;-82.6397272
X-APPLE-STRUCTURED-LOCATION;VALUE=URI;X-ADDRESS=John Hopkins All Children’s Hospital 600 5th Street South St. Petersburg FL 33701 United States;X-APPLE-RADIUS=500;X-TITLE=600 5th Street South:geo:-82.6397272,27.7639995
END:VEVENT
BEGIN:VEVENT
DTSTART;TZID=America/New_York:20251008T150000
DTEND;TZID=America/New_York:20251008T160000
DTSTAMP:20260422T211848
CREATED:20251006T125124Z
LAST-MODIFIED:20251006T144043Z
UID:17072-1759935600-1759939200@tampabayhmpc.org
SUMMARY:BOLDPlanning: “How to Effectively Add Contacts for your CEMP”
DESCRIPTION:Join Here\n  \nBOLDplanning Webinar One-Pager
URL:https://tampabayhmpc.org/event/boldplanning-how-to-effectively-add-contacts-for-your-cemp/
CATEGORIES:Citrus,Events Calendar,Hardee,Hernando,Hillsborough,Manatee,Pasco,Pinellas,Polk,Sumter
END:VEVENT
BEGIN:VEVENT
DTSTART;TZID=America/New_York:20251009T130000
DTEND;TZID=America/New_York:20251009T140000
DTSTAMP:20260422T211848
CREATED:20231222T144056Z
LAST-MODIFIED:20260413T135657Z
UID:15327-1760014800-1760018400@tampabayhmpc.org
SUMMARY:Hernando County ESF-8 WG Meeting
DESCRIPTION:
URL:https://tampabayhmpc.org/event/hernando-county-esf-8-wg-meeting-2/2025-10-09/
CATEGORIES:Events Calendar,Hernando
END:VEVENT
BEGIN:VEVENT
DTSTART;TZID=America/New_York:20251016T110000
DTEND;TZID=America/New_York:20251016T120000
DTSTAMP:20260422T211848
CREATED:20231222T143945Z
LAST-MODIFIED:20260413T133730Z
UID:15338-1760612400-1760616000@tampabayhmpc.org
SUMMARY:Sumter County ESF-8 WG Meeting
DESCRIPTION:
URL:https://tampabayhmpc.org/event/sumter-county-esf-8-wg-meeting-5/2025-10-16/
CATEGORIES:Events Calendar,Sumter
END:VEVENT
BEGIN:VEVENT
DTSTART;TZID=America/New_York:20251022T150000
DTEND;TZID=America/New_York:20251022T160000
DTSTAMP:20260422T211848
CREATED:20251015T132524Z
LAST-MODIFIED:20251015T132524Z
UID:17107-1761145200-1761148800@tampabayhmpc.org
SUMMARY:BOLDPlanning CEMP Webinar- “Strategic Facility Planning for Emergencies and Alternate Sites”
DESCRIPTION:Join Here\n  \nBOLDplanning Webinar October 22nd
URL:https://tampabayhmpc.org/event/boldplanning-cemp-webinar-strategic-facility-planning-for-emergencies-and-alternate-sites/
CATEGORIES:Citrus,Events Calendar,Hardee,Hernando,Hillsborough,Manatee,Pasco,Pinellas,Polk,Sumter
END:VEVENT
BEGIN:VEVENT
DTSTART;TZID=America/New_York:20251029T110000
DTEND;TZID=America/New_York:20251029T123000
DTSTAMP:20260422T211848
CREATED:20230103T155239Z
LAST-MODIFIED:20250825T191725Z
UID:15111-1761735600-1761741000@tampabayhmpc.org
SUMMARY:Citrus County ESF-8 WG Meeting
DESCRIPTION:
URL:https://tampabayhmpc.org/event/citrus-county-esf-8-wg-meeting-4-2024-01-31-2025-09-24/
CATEGORIES:Citrus,Events Calendar
END:VEVENT
END:VCALENDAR