BEGIN:VCALENDAR
VERSION:2.0
PRODID:-//Tampa Bay HMPC - ECPv6.15.20//NONSGML v1.0//EN
CALSCALE:GREGORIAN
METHOD:PUBLISH
X-ORIGINAL-URL:https://tampabayhmpc.org
X-WR-CALDESC:Events for Tampa Bay HMPC
REFRESH-INTERVAL;VALUE=DURATION:PT1H
X-Robots-Tag:noindex
X-PUBLISHED-TTL:PT1H
BEGIN:VTIMEZONE
TZID:America/New_York
BEGIN:DAYLIGHT
TZOFFSETFROM:-0500
TZOFFSETTO:-0400
TZNAME:EDT
DTSTART:20250309T070000
END:DAYLIGHT
BEGIN:STANDARD
TZOFFSETFROM:-0400
TZOFFSETTO:-0500
TZNAME:EST
DTSTART:20251102T060000
END:STANDARD
BEGIN:DAYLIGHT
TZOFFSETFROM:-0500
TZOFFSETTO:-0400
TZNAME:EDT
DTSTART:20260308T070000
END:DAYLIGHT
BEGIN:STANDARD
TZOFFSETFROM:-0400
TZOFFSETTO:-0500
TZNAME:EST
DTSTART:20261101T060000
END:STANDARD
BEGIN:DAYLIGHT
TZOFFSETFROM:-0500
TZOFFSETTO:-0400
TZNAME:EDT
DTSTART:20270314T070000
END:DAYLIGHT
BEGIN:STANDARD
TZOFFSETFROM:-0400
TZOFFSETTO:-0500
TZNAME:EST
DTSTART:20271107T060000
END:STANDARD
END:VTIMEZONE
BEGIN:VEVENT
DTSTART;TZID=America/New_York:20260204T100000
DTEND;TZID=America/New_York:20260204T170000
DTSTAMP:20260422T162857
CREATED:20260120T155024Z
LAST-MODIFIED:20260120T155024Z
UID:17376-1770199200-1770224400@tampabayhmpc.org
SUMMARY:2026 TBHMPC Great Tornado Drill
DESCRIPTION:Register Here\n  \n2026 TBHMPC Great Tornado Drill Flyer
URL:https://tampabayhmpc.org/event/2026-tbhmpc-great-tornado-drill/
CATEGORIES:Citrus,Events Calendar,Hardee,Hernando,Hillsborough,Manatee,Pasco,Pinellas,Polk,Sumter
END:VEVENT
BEGIN:VEVENT
DTSTART;TZID=America/New_York:20260204T110000
DTEND;TZID=America/New_York:20260204T123000
DTSTAMP:20260422T162857
CREATED:20260114T180117Z
LAST-MODIFIED:20260114T180117Z
UID:17324-1770202800-1770208200@tampabayhmpc.org
SUMMARY:Empowering Leaders in Crisis: Novel Training Strategies for Executive Success
DESCRIPTION:Register Here\nEmpowering Leaders in Crisis (1)
URL:https://tampabayhmpc.org/event/empowering-leaders-in-crisis-novel-training-strategies-for-executive-success/
CATEGORIES:Citrus,Events Calendar,Hardee,Hernando,Hillsborough,Manatee,Pasco,Pinellas,Polk,Sumter
END:VEVENT
BEGIN:VEVENT
DTSTART;TZID=America/New_York:20260206T093000
DTEND;TZID=America/New_York:20260206T110000
DTSTAMP:20260422T162857
CREATED:20231218T163447Z
LAST-MODIFIED:20260413T135427Z
UID:15534-1770370200-1770375600@tampabayhmpc.org
SUMMARY:Pinellas CHAMP Meeting
DESCRIPTION:
URL:https://tampabayhmpc.org/event/pinellas-champ-meeting-5/2026-02-06/
LOCATION:John Hopkins All Children’s Hospital\, 600 5th Street South\, St. Petersburg\, FL\, 33701\, United States
CATEGORIES:Events Calendar,Pinellas
GEO:27.7639995;-82.6397272
X-APPLE-STRUCTURED-LOCATION;VALUE=URI;X-ADDRESS=John Hopkins All Children’s Hospital 600 5th Street South St. Petersburg FL 33701 United States;X-APPLE-RADIUS=500;X-TITLE=600 5th Street South:geo:-82.6397272,27.7639995
END:VEVENT
END:VCALENDAR