BEGIN:VCALENDAR
VERSION:2.0
PRODID:-//Tampa Bay HMPC - ECPv6.15.20//NONSGML v1.0//EN
CALSCALE:GREGORIAN
METHOD:PUBLISH
X-WR-CALNAME:Tampa Bay HMPC
X-ORIGINAL-URL:https://tampabayhmpc.org
X-WR-CALDESC:Events for Tampa Bay HMPC
REFRESH-INTERVAL;VALUE=DURATION:PT1H
X-Robots-Tag:noindex
X-PUBLISHED-TTL:PT1H
BEGIN:VTIMEZONE
TZID:America/New_York
BEGIN:DAYLIGHT
TZOFFSETFROM:-0500
TZOFFSETTO:-0400
TZNAME:EDT
DTSTART:20250309T070000
END:DAYLIGHT
BEGIN:STANDARD
TZOFFSETFROM:-0400
TZOFFSETTO:-0500
TZNAME:EST
DTSTART:20251102T060000
END:STANDARD
BEGIN:DAYLIGHT
TZOFFSETFROM:-0500
TZOFFSETTO:-0400
TZNAME:EDT
DTSTART:20260308T070000
END:DAYLIGHT
BEGIN:STANDARD
TZOFFSETFROM:-0400
TZOFFSETTO:-0500
TZNAME:EST
DTSTART:20261101T060000
END:STANDARD
BEGIN:DAYLIGHT
TZOFFSETFROM:-0500
TZOFFSETTO:-0400
TZNAME:EDT
DTSTART:20270314T070000
END:DAYLIGHT
BEGIN:STANDARD
TZOFFSETFROM:-0400
TZOFFSETTO:-0500
TZNAME:EST
DTSTART:20271107T060000
END:STANDARD
END:VTIMEZONE
BEGIN:VEVENT
DTSTART;TZID=America/New_York:20260416T110000
DTEND;TZID=America/New_York:20260416T120000
DTSTAMP:20260422T181440
CREATED:20231222T143945Z
LAST-MODIFIED:20260413T133736Z
UID:15736-1776337200-1776340800@tampabayhmpc.org
SUMMARY:Sumter County ESF-8 WG Meeting
DESCRIPTION:
URL:https://tampabayhmpc.org/event/sumter-county-esf-8-wg-meeting-5/2026-04-16/
CATEGORIES:Events Calendar,Sumter
END:VEVENT
BEGIN:VEVENT
DTSTART;TZID=America/New_York:20260416T130000
DTEND;TZID=America/New_York:20260416T143000
DTSTAMP:20260422T181440
CREATED:20260324T141405Z
LAST-MODIFIED:20260413T134318Z
UID:17501-1776344400-1776349800@tampabayhmpc.org
SUMMARY:Hernando County ESF-8 WG Meeting
DESCRIPTION:
URL:https://tampabayhmpc.org/event/hernando-county-esf-8-wg-meeting-3/
CATEGORIES:Events Calendar,Hernando
END:VEVENT
END:VCALENDAR