BEGIN:VCALENDAR
VERSION:2.0
PRODID:-//Tampa Bay HMPC - ECPv6.15.20//NONSGML v1.0//EN
CALSCALE:GREGORIAN
METHOD:PUBLISH
X-WR-CALNAME:Tampa Bay HMPC
X-ORIGINAL-URL:https://tampabayhmpc.org
X-WR-CALDESC:Events for Tampa Bay HMPC
REFRESH-INTERVAL;VALUE=DURATION:PT1H
X-Robots-Tag:noindex
X-PUBLISHED-TTL:PT1H
BEGIN:VTIMEZONE
TZID:America/New_York
BEGIN:DAYLIGHT
TZOFFSETFROM:-0500
TZOFFSETTO:-0400
TZNAME:EDT
DTSTART:20250309T070000
END:DAYLIGHT
BEGIN:STANDARD
TZOFFSETFROM:-0400
TZOFFSETTO:-0500
TZNAME:EST
DTSTART:20251102T060000
END:STANDARD
BEGIN:DAYLIGHT
TZOFFSETFROM:-0500
TZOFFSETTO:-0400
TZNAME:EDT
DTSTART:20260308T070000
END:DAYLIGHT
BEGIN:STANDARD
TZOFFSETFROM:-0400
TZOFFSETTO:-0500
TZNAME:EST
DTSTART:20261101T060000
END:STANDARD
BEGIN:DAYLIGHT
TZOFFSETFROM:-0500
TZOFFSETTO:-0400
TZNAME:EDT
DTSTART:20270314T070000
END:DAYLIGHT
BEGIN:STANDARD
TZOFFSETFROM:-0400
TZOFFSETTO:-0500
TZNAME:EST
DTSTART:20271107T060000
END:STANDARD
END:VTIMEZONE
BEGIN:VEVENT
DTSTART;TZID=America/New_York:20260616T090000
DTEND;TZID=America/New_York:20260616T120000
DTSTAMP:20260422T194550
CREATED:20260407T134139Z
LAST-MODIFIED:20260422T141846Z
UID:17552-1781600400-1781611200@tampabayhmpc.org
SUMMARY:Pulsara MCI Bootcamps
DESCRIPTION:REGISTER HERE\n_Tampa Bay 20251210 MCI Bootcamp Flyer
URL:https://tampabayhmpc.org/event/pulsara-mci-bootcamps/
LOCATION:Lakeland Regional Health\, 1324 Lakeland Hills Blvd\, Lakeland\, FL\, 33805
CATEGORIES:Citrus,Events Calendar,Hardee,Hernando,Hillsborough,Manatee,Pasco,Pinellas,Polk,Sumter
GEO:28.060699;-81.954921
X-APPLE-STRUCTURED-LOCATION;VALUE=URI;X-ADDRESS=Lakeland Regional Health 1324 Lakeland Hills Blvd Lakeland FL 33805;X-APPLE-RADIUS=500;X-TITLE=1324 Lakeland Hills Blvd:geo:-81.954921,28.060699
END:VEVENT
BEGIN:VEVENT
DTSTART;TZID=America/New_York:20260617T133000
DTEND;TZID=America/New_York:20260617T163000
DTSTAMP:20260422T194550
CREATED:20260407T134139Z
LAST-MODIFIED:20260422T145550Z
UID:17553-1781703000-1781713800@tampabayhmpc.org
SUMMARY:Pulsara MCI Bootcamps
DESCRIPTION:REGISTER HERE\n  \n_Tampa Bay 20251210 MCI Bootcamp Flyer
URL:https://tampabayhmpc.org/event/pulsara-mci-bootcamps-2026-06-17/
LOCATION:HCA Florida Trinity Hospital\, 9330 FL-54\, Trinity\, FL\, 34655
CATEGORIES:Citrus,Events Calendar,Hardee,Hernando,Hillsborough,Manatee,Pasco,Pinellas,Polk,Sumter
GEO:28.2041621;-82.6598215
X-APPLE-STRUCTURED-LOCATION;VALUE=URI;X-ADDRESS=HCA Florida Trinity Hospital 9330 FL-54 Trinity FL 34655;X-APPLE-RADIUS=500;X-TITLE=9330 FL-54:geo:-82.6598215,28.2041621
END:VEVENT
BEGIN:VEVENT
DTSTART;TZID=America/New_York:20260618T090000
DTEND;TZID=America/New_York:20260618T120000
DTSTAMP:20260422T194550
CREATED:20260407T134139Z
LAST-MODIFIED:20260422T145536Z
UID:17554-1781773200-1781784000@tampabayhmpc.org
SUMMARY:Pulsara MCI Bootcamps
DESCRIPTION:REGISTER HERE\n  \n_Tampa Bay 20251210 MCI Bootcamp Flyer
URL:https://tampabayhmpc.org/event/pulsara-mci-bootcamps-2026-06-18/
LOCATION:Manatee Memorial Hospital\, 206 2nd St E\, Bradenton\, FL\, 34208\, United States
CATEGORIES:Citrus,Events Calendar,Hardee,Hernando,Hillsborough,Manatee,Pasco,Pinellas,Polk,Sumter
GEO:27.4972631;-82.5621778
X-APPLE-STRUCTURED-LOCATION;VALUE=URI;X-ADDRESS=Manatee Memorial Hospital 206 2nd St E Bradenton FL 34208 United States;X-APPLE-RADIUS=500;X-TITLE=206 2nd St E:geo:-82.5621778,27.4972631
END:VEVENT
BEGIN:VEVENT
DTSTART;TZID=America/New_York:20260618T110000
DTEND;TZID=America/New_York:20260618T120000
DTSTAMP:20260422T194550
CREATED:20231222T143945Z
LAST-MODIFIED:20260413T133746Z
UID:15883-1781780400-1781784000@tampabayhmpc.org
SUMMARY:Sumter County ESF-8 WG Meeting
DESCRIPTION:
URL:https://tampabayhmpc.org/event/sumter-county-esf-8-wg-meeting-5/2026-06-18/
CATEGORIES:Events Calendar,Sumter
END:VEVENT
END:VCALENDAR